BEGIN:VCALENDAR
VERSION:2.0
PRODID:-//Civilian Office of Police Accountability - ECPv6.15.18//NONSGML v1.0//EN
CALSCALE:GREGORIAN
METHOD:PUBLISH
X-ORIGINAL-URL:https://www.chicagocopa.org
X-WR-CALDESC:Events for Civilian Office of Police Accountability
REFRESH-INTERVAL;VALUE=DURATION:PT1H
X-Robots-Tag:noindex
X-PUBLISHED-TTL:PT1H
BEGIN:VTIMEZONE
TZID:America/Chicago
BEGIN:DAYLIGHT
TZOFFSETFROM:-0600
TZOFFSETTO:-0500
TZNAME:CDT
DTSTART:20180311T080000
END:DAYLIGHT
BEGIN:STANDARD
TZOFFSETFROM:-0500
TZOFFSETTO:-0600
TZNAME:CST
DTSTART:20181104T070000
END:STANDARD
BEGIN:DAYLIGHT
TZOFFSETFROM:-0600
TZOFFSETTO:-0500
TZNAME:CDT
DTSTART:20190310T080000
END:DAYLIGHT
BEGIN:STANDARD
TZOFFSETFROM:-0500
TZOFFSETTO:-0600
TZNAME:CST
DTSTART:20191103T070000
END:STANDARD
BEGIN:DAYLIGHT
TZOFFSETFROM:-0600
TZOFFSETTO:-0500
TZNAME:CDT
DTSTART:20200308T080000
END:DAYLIGHT
BEGIN:STANDARD
TZOFFSETFROM:-0500
TZOFFSETTO:-0600
TZNAME:CST
DTSTART:20201101T070000
END:STANDARD
END:VTIMEZONE
BEGIN:VEVENT
DTSTART;TZID=America/Chicago:20190919T170000
DTEND;TZID=America/Chicago:20190919T203000
DTSTAMP:20260419T081426
CREATED:20190829T162007Z
LAST-MODIFIED:20190829T163938Z
UID:10001238-1568912400-1568925000@www.chicagocopa.org
SUMMARY:City Hall Resource Fair
DESCRIPTION:COPA will attend City Hall Resource Fairs. The purpose of the community engagement fairs is to provide residents with an opportunity to interact with various City agencies\, provide feedback\, and learn more about resources and supports provided through your department.
URL:https://www.chicagocopa.org/event/city-hall-resource-fairs-3/
LOCATION:Southeast United Methodist Youth and Community Center\, 11731 S. Avenue O\, Chicago\, IL
END:VEVENT
END:VCALENDAR