BEGIN:VCALENDAR
VERSION:2.0
PRODID:-//Civilian Office of Police Accountability - ECPv6.15.18//NONSGML v1.0//EN
CALSCALE:GREGORIAN
METHOD:PUBLISH
X-WR-CALNAME:Civilian Office of Police Accountability
X-ORIGINAL-URL:https://www.chicagocopa.org
X-WR-CALDESC:Events for Civilian Office of Police Accountability
REFRESH-INTERVAL;VALUE=DURATION:PT1H
X-Robots-Tag:noindex
X-PUBLISHED-TTL:PT1H
BEGIN:VTIMEZONE
TZID:America/Chicago
BEGIN:DAYLIGHT
TZOFFSETFROM:-0600
TZOFFSETTO:-0500
TZNAME:CDT
DTSTART:20230312T080000
END:DAYLIGHT
BEGIN:STANDARD
TZOFFSETFROM:-0500
TZOFFSETTO:-0600
TZNAME:CST
DTSTART:20231105T070000
END:STANDARD
BEGIN:DAYLIGHT
TZOFFSETFROM:-0600
TZOFFSETTO:-0500
TZNAME:CDT
DTSTART:20240310T080000
END:DAYLIGHT
BEGIN:STANDARD
TZOFFSETFROM:-0500
TZOFFSETTO:-0600
TZNAME:CST
DTSTART:20241103T070000
END:STANDARD
BEGIN:DAYLIGHT
TZOFFSETFROM:-0600
TZOFFSETTO:-0500
TZNAME:CDT
DTSTART:20250309T080000
END:DAYLIGHT
BEGIN:STANDARD
TZOFFSETFROM:-0500
TZOFFSETTO:-0600
TZNAME:CST
DTSTART:20251102T070000
END:STANDARD
END:VTIMEZONE
BEGIN:VEVENT
DTSTART;VALUE=DATE:20240514
DTEND;VALUE=DATE:20240515
DTSTAMP:20260420T044231
CREATED:20231208T145213Z
LAST-MODIFIED:20231208T145213Z
UID:10001720-1715644800-1715731199@www.chicagocopa.org
SUMMARY:The Leaders Network Community Meeting
DESCRIPTION:COPA plans to attend this meeting comprised of faith and community leaders that work together to organize\, strategize and mobilize to improve the quality of life for the west side communities. This event begins at 9:30AM and will take place at Columbus Park Refectory (5701 W. Jackson Blvd).
URL:https://www.chicagocopa.org/event/the-leaders-network-community-meeting-17/
END:VEVENT
BEGIN:VEVENT
DTSTART;VALUE=DATE:20240514
DTEND;VALUE=DATE:20240515
DTSTAMP:20260420T044231
CREATED:20240508T142654Z
LAST-MODIFIED:20240508T142654Z
UID:10001925-1715644800-1715731199@www.chicagocopa.org
SUMMARY:Mobile City Hall at Warren Park
DESCRIPTION:COPA is looking forward to attending this outreach event where we plan to set up a resource table and share its agency role in police misconduct with the public. This event will be held from 4-7PM at Warren Park (6601 N. Western Ave).
URL:https://www.chicagocopa.org/event/mobile-city-hall-at-warren-park/
END:VEVENT
BEGIN:VEVENT
DTSTART;VALUE=DATE:20240515
DTEND;VALUE=DATE:20240516
DTSTAMP:20260420T044231
CREATED:20240429T203611Z
LAST-MODIFIED:20240429T203611Z
UID:10001915-1715731200-1715817599@www.chicagocopa.org
SUMMARY:Acero Garcia High School Career Fair
DESCRIPTION:COPA plans to set up a resource table at Acero Garcia High School Career Fair to share with high schools students at this school our agency mission\, help them understand the importance of police oversight\, and inform them of career opportunities to consider in civilian oversight.
URL:https://www.chicagocopa.org/event/acero-garcia-high-school-career-fair/
END:VEVENT
BEGIN:VEVENT
DTSTART;VALUE=DATE:20240516
DTEND;VALUE=DATE:20240517
DTSTAMP:20260420T044231
CREATED:20240403T193551Z
LAST-MODIFIED:20240403T193551Z
UID:10001815-1715817600-1715903999@www.chicagocopa.org
SUMMARY:Cook County Health Community Youth Resource Palooza Ball
DESCRIPTION:COPA is looking forward to attending this community resource fair. At this outreach event COPA will be able to set up a resource table and share its agency role in police misconduct. This event is scheduled to take place on May 16th from 1:00 PM to 5:00 PM at the King Community Service Center located at 4314 S. Cottage Grove\, Chicago\, Illinois 60653.
URL:https://www.chicagocopa.org/event/cook-county-health-community-youth-resource-palooza-ball/
END:VEVENT
BEGIN:VEVENT
DTSTART;VALUE=DATE:20240516
DTEND;VALUE=DATE:20240517
DTSTAMP:20260420T044231
CREATED:20240415T203306Z
LAST-MODIFIED:20240415T203306Z
UID:10001854-1715817600-1715903999@www.chicagocopa.org
SUMMARY:Public Meetings of the Police Board
DESCRIPTION:The Police Board holds a regular public meeting once a month. Members of the public are invited to attend and are welcome to address questions or comments to the Board. The Superintendent of Police (or his designee) and the Chief Administrator of the Civilian Office of Police Accountability (or her designee) will be at the meetings. Prior sign-up is required of those wishing to address the Board; to add your name to the list of speakers\, please contact the Board’s office at 312.742.4194 or PoliceBoard@cityofchicago.org up to 15 minutes before the meeting begins. These monthly meetings are scheduled to begin at 7:30 p.m. and take place at the Chicago Public Safety Headquarters.  Unless otherwise announced in advance\, the meetings will be in-person at Chicago Public Safety Headquarters\, 3510 South Michigan Avenue. The meetings will be carried live by CAN-TV (on Chicago cable channel 27 and streamed at www.cantv.org/watch/stream-can-tv27). \n2024 Schedule \nThursday\, January 18\, 7:30pm \nThursday\, February 22\, 7:30pm \nThursday\, March 21\, 7:30pm \nThursday\, April 18\, 7:30pm \nThursday\, May 16\, 7:30pm \nThursday\, June 20\, 7:30pm \nThursday\, July 18\, 7:30pm \nThursday\, August 15\, 7:30pm \nThursday\, September 19\, 7:30pm \nThursday\, October 17\, 7:30pm \nThursday\, November 21\, 7:30pm \nThursday\, December 19\, 7:30pm \n  \n 
URL:https://www.chicagocopa.org/event/public-meetings-of-the-police-board-39/
END:VEVENT
BEGIN:VEVENT
DTSTART;VALUE=DATE:20240516
DTEND;VALUE=DATE:20240517
DTSTAMP:20260420T044231
CREATED:20240423T183930Z
LAST-MODIFIED:20240423T183930Z
UID:10001910-1715817600-1715903999@www.chicagocopa.org
SUMMARY:Airport Expo and Job Fair
DESCRIPTION:COPA plans to set up a resource table at this event to share with residents in this community our agency mission\, help them understand the importance of police oversight\, and inform them of any job openings we have available. This is COPA’s second year participating in this event hosted by the Chicago Department of Aviation.  This event will be held on May 16th from 9am-2pm and held at UIC Forum.
URL:https://www.chicagocopa.org/event/airport-expo-and-job-fair/
END:VEVENT
BEGIN:VEVENT
DTSTART;VALUE=DATE:20240516
DTEND;VALUE=DATE:20240517
DTSTAMP:20260420T044231
CREATED:20240508T142808Z
LAST-MODIFIED:20240508T142808Z
UID:10001926-1715817600-1715903999@www.chicagocopa.org
SUMMARY:Mobile City Hall at Kilbourn Park
DESCRIPTION:COPA is looking forward to attending this outreach event where we plan to set up a resource table and share its agency role in police misconduct with the public. This event will be held from 4-7PM at Kilbourn Park (3501 N. Kilbourn Ave).
URL:https://www.chicagocopa.org/event/mobile-city-hall-at-kilbourn-park/
END:VEVENT
BEGIN:VEVENT
DTSTART;VALUE=DATE:20240516
DTEND;VALUE=DATE:20240517
DTSTAMP:20260420T044231
CREATED:20240613T144612Z
LAST-MODIFIED:20240613T144612Z
UID:10001966-1715817600-1715903999@www.chicagocopa.org
SUMMARY:Chicago Is With You Task Force Meeting
DESCRIPTION:COPA hosted the Chicago is With You Task Force Meeting at our agency office. This meeting was held to help attendees learn more about our agency operations. It was also a collaborative community outreach effort aimed at connecting immigrant and refugee communities to mental health\, legal services. Attendees at the meeting were also provided information on how to offer diversity training for employers and educational institutions.
URL:https://www.chicagocopa.org/event/chicago-is-with-you-task-force-meeting/
END:VEVENT
BEGIN:VEVENT
DTSTART;VALUE=DATE:20240517
DTEND;VALUE=DATE:20240518
DTSTAMP:20260420T044231
CREATED:20240123T191700Z
LAST-MODIFIED:20240123T191700Z
UID:10001783-1715904000-1715990399@www.chicagocopa.org
SUMMARY:Community Resource Fair
DESCRIPTION:COPA plans to set up a resource table at this event to share with seniors in this community our agency mission and help them understand the importance of police oversight. This event will be held from 9:30AM to 1PM at DFSS Southwest Regional Senior Center (6117 S. Kedzie).
URL:https://www.chicagocopa.org/event/community-resource-fair/
END:VEVENT
BEGIN:VEVENT
DTSTART;VALUE=DATE:20240518
DTEND;VALUE=DATE:20240519
DTSTAMP:20260420T044231
CREATED:20240410T205951Z
LAST-MODIFIED:20240410T205951Z
UID:10001849-1715990400-1716076799@www.chicagocopa.org
SUMMARY:Community Resource Fair
DESCRIPTION:COPA is looking forward to attending this community resource fair. At this outreach event COPA will be able to set up a resource table and share its agency role in police misconduct. This event will take place at 2614 N. Emmett from 10AM-NOON.
URL:https://www.chicagocopa.org/event/community-resource-fair-2/
END:VEVENT
BEGIN:VEVENT
DTSTART;VALUE=DATE:20240518
DTEND;VALUE=DATE:20240519
DTSTAMP:20260420T044231
CREATED:20240506T144749Z
LAST-MODIFIED:20240506T144941Z
UID:10001920-1715990400-1716076799@www.chicagocopa.org
SUMMARY:Chicago Department of Housing Presentation and Resource Fair
DESCRIPTION:The Chicago Department of Housing is hosting this presentation and resource fair for tenants and landlords to learn about their rights and responsibilities. COPA will have the opportunity to table at this event from 10AM-2PM and share our agency role in police accountability at this event being held at 10001 S Woodlawn Ave\, Chicago\, IL 60628.
URL:https://www.chicagocopa.org/event/chicago-department-of-housing-presentation-and-resource-fair/
END:VEVENT
END:VCALENDAR