BEGIN:VCALENDAR
VERSION:2.0
PRODID:-//Civilian Office of Police Accountability - ECPv6.15.18//NONSGML v1.0//EN
CALSCALE:GREGORIAN
METHOD:PUBLISH
X-WR-CALNAME:Civilian Office of Police Accountability
X-ORIGINAL-URL:https://www.chicagocopa.org
X-WR-CALDESC:Events for Civilian Office of Police Accountability
REFRESH-INTERVAL;VALUE=DURATION:PT1H
X-Robots-Tag:noindex
X-PUBLISHED-TTL:PT1H
BEGIN:VTIMEZONE
TZID:America/Chicago
BEGIN:DAYLIGHT
TZOFFSETFROM:-0600
TZOFFSETTO:-0500
TZNAME:CDT
DTSTART:20220313T080000
END:DAYLIGHT
BEGIN:STANDARD
TZOFFSETFROM:-0500
TZOFFSETTO:-0600
TZNAME:CST
DTSTART:20221106T070000
END:STANDARD
BEGIN:DAYLIGHT
TZOFFSETFROM:-0600
TZOFFSETTO:-0500
TZNAME:CDT
DTSTART:20230312T080000
END:DAYLIGHT
BEGIN:STANDARD
TZOFFSETFROM:-0500
TZOFFSETTO:-0600
TZNAME:CST
DTSTART:20231105T070000
END:STANDARD
BEGIN:DAYLIGHT
TZOFFSETFROM:-0600
TZOFFSETTO:-0500
TZNAME:CDT
DTSTART:20240310T080000
END:DAYLIGHT
BEGIN:STANDARD
TZOFFSETFROM:-0500
TZOFFSETTO:-0600
TZNAME:CST
DTSTART:20241103T070000
END:STANDARD
END:VTIMEZONE
BEGIN:VEVENT
DTSTART;VALUE=DATE:20230815
DTEND;VALUE=DATE:20230816
DTSTAMP:20260422T050110
CREATED:20230104T174041Z
LAST-MODIFIED:20230410T142036Z
UID:10001531-1692057600-1692143999@www.chicagocopa.org
SUMMARY:Nobel Neighbors Community Meeting
DESCRIPTION:COPA is proud to have a community partnership with Nobel Neighbors. Our agency plans to speak at this upcoming community meeting to explain the agency mission and share the importance of police oversight.  This meeting takes place at New Life Church located at 1410 N. Springfield and starts at 10AM.
URL:https://www.chicagocopa.org/event/nobel-neighbors-community-meeting-14/
END:VEVENT
BEGIN:VEVENT
DTSTART;VALUE=DATE:20230815
DTEND;VALUE=DATE:20230816
DTSTAMP:20260422T050110
CREATED:20230329T165859Z
LAST-MODIFIED:20230410T215752Z
UID:10001588-1692057600-1692143999@www.chicagocopa.org
SUMMARY:COPA and the City Clerk Mobile City Hall Community Event
DESCRIPTION:COPA plans to  join Anna Valencia City Clerk Office along with various other city departments and sister agencies to connect with the community.  At this mobile outreach event COPA will have a resource table and share with the public the agency role in police oversight.  This event will be held from 10AM-1PM at Hamilton Park (513 w. 72nd Street).
URL:https://www.chicagocopa.org/event/copa-and-the-city-clerk-mobile-city-hall-community-event-28/
END:VEVENT
BEGIN:VEVENT
DTSTART;VALUE=DATE:20230815
DTEND;VALUE=DATE:20230816
DTSTAMP:20260422T050110
CREATED:20230519T132133Z
LAST-MODIFIED:20230519T132133Z
UID:10001346-1692057600-1692143999@www.chicagocopa.org
SUMMARY:CPS Back to School Bash at Finkl Elementary School
DESCRIPTION:Chicago Public Schools (CPS) is hosting Back-to-School Bashes for students and families to celebrate and prepare for the start of the 2023-24 school year. COPA will participate in the CPS bashes to celebrate the new school year and explain to families the role our agency plays in police accountability. This event will be held from 10am-2pm at Finkl Elementary School.
URL:https://www.chicagocopa.org/event/cps-back-to-school-bash-at-finkl-elementary-school/
END:VEVENT
BEGIN:VEVENT
DTSTART;VALUE=DATE:20230816
DTEND;VALUE=DATE:20230817
DTSTAMP:20260422T050110
CREATED:20230519T132434Z
LAST-MODIFIED:20230519T132434Z
UID:10001347-1692144000-1692230399@www.chicagocopa.org
SUMMARY:CPS Back to School Bash at Crane High School
DESCRIPTION:Chicago Public Schools (CPS) is hosting Back-to-School Bashes for students and families to celebrate and prepare for the start of the 2023-24 school year. COPA will participate in the CPS bashes to celebrate the new school year and explain to families the role our agency plays in police accountability. This event will be held from 10am-2pm at Crane High School.
URL:https://www.chicagocopa.org/event/cps-back-to-school-bash-at-crane-high-school/
END:VEVENT
BEGIN:VEVENT
DTSTART;VALUE=DATE:20230817
DTEND;VALUE=DATE:20230818
DTSTAMP:20260422T050110
CREATED:20230519T132808Z
LAST-MODIFIED:20230519T132842Z
UID:10001349-1692230400-1692316799@www.chicagocopa.org
SUMMARY:CPS Back to School Bash at Old Englewood High School
DESCRIPTION:Chicago Public Schools (CPS) is hosting Back-to-School Bashes for students and families to celebrate and prepare for the start of the 2023-24 school year. COPA will participate in the CPS bashes to celebrate the new school year and explain to families the role our agency plays in police accountability. This event will be held from 2-6pm at Old Englewood High School.
URL:https://www.chicagocopa.org/event/cps-back-to-school-bash-at-old-englewood-high-school/
END:VEVENT
BEGIN:VEVENT
DTSTART;VALUE=DATE:20230817
DTEND;VALUE=DATE:20230818
DTSTAMP:20260422T050110
CREATED:20230830T143943Z
LAST-MODIFIED:20230830T143943Z
UID:10001675-1692230400-1692316799@www.chicagocopa.org
SUMMARY:4th District Council Meeting
DESCRIPTION:6pm \n1735 E 95th Street
URL:https://www.chicagocopa.org/event/4th-district-council-meeting/
CATEGORIES:Public Event/Meeting
END:VEVENT
BEGIN:VEVENT
DTSTART;VALUE=DATE:20230817
DTEND;VALUE=DATE:20230818
DTSTAMP:20260422T050110
CREATED:20240415T211432Z
LAST-MODIFIED:20240415T211432Z
UID:10001865-1692230400-1692316799@www.chicagocopa.org
SUMMARY:Public Meetings of the Police Board
DESCRIPTION:The Police Board holds a regular public meeting once a month. The meetings are on the third Thursday of the month and begin at 7:30pm (please see below). Whether each meeting will be in person or via Zoom will be determined at least 48 hours before each meeting. \nSchedule of Police Board Monthly Public Meetings for 2023: \nThursday\, January 19 \nThursday\, February 16 \nThursday\, March 16 \nThursday\, April 20 \nThursday\, May 18 \nThursday\, June 15 \nThursday\, July 20 \nThursday\, August 17 \nThursday\, September 21 \nThursday\, October 19 \nThursday\, November 16 \nThursday\, December 21 \n  \n 
URL:https://www.chicagocopa.org/event/public-meetings-of-the-police-board-50/
END:VEVENT
BEGIN:VEVENT
DTSTART;VALUE=DATE:20230818
DTEND;VALUE=DATE:20230819
DTSTAMP:20260422T050110
CREATED:20230519T133041Z
LAST-MODIFIED:20230519T133041Z
UID:10001351-1692316800-1692403199@www.chicagocopa.org
SUMMARY:CPS Back to School Bash at Fenger High School
DESCRIPTION:Chicago Public Schools (CPS) is hosting Back-to-School Bashes for students and families to celebrate and prepare for the start of the 2023-24 school year. COPA will participate in the CPS bashes to celebrate the new school year and explain to families the role our agency plays in police accountability. This event will be held from 10am-2pm at Fenger High School.
URL:https://www.chicagocopa.org/event/cps-back-to-school-bash-at-fenger-high-school-2/
END:VEVENT
BEGIN:VEVENT
DTSTART;VALUE=DATE:20230819
DTEND;VALUE=DATE:20230820
DTSTAMP:20260422T050110
CREATED:20230803T131032Z
LAST-MODIFIED:20230808T194703Z
UID:10001662-1692403200-1692489599@www.chicagocopa.org
SUMMARY:Fiesta Escolar Back to School Event
DESCRIPTION:COPA plans to attend Fiesta Escolar Back to School event to help students and families celebrate the new upcoming 2023-24 school year and explain to families the role our agency plays in police accountability. This event will take place at Lowell Elementary School (3320 W. Hirsch Street – Chicago\, IL) on Saturday\, August 19\, 2023 from 10AM-1PM.
URL:https://www.chicagocopa.org/event/fiesta-escolar-back-to-school-event/
END:VEVENT
END:VCALENDAR