BEGIN:VCALENDAR
VERSION:2.0
PRODID:-//Civilian Office of Police Accountability - ECPv6.15.18//NONSGML v1.0//EN
CALSCALE:GREGORIAN
METHOD:PUBLISH
X-WR-CALNAME:Civilian Office of Police Accountability
X-ORIGINAL-URL:https://www.chicagocopa.org
X-WR-CALDESC:Events for Civilian Office of Police Accountability
REFRESH-INTERVAL;VALUE=DURATION:PT1H
X-Robots-Tag:noindex
X-PUBLISHED-TTL:PT1H
BEGIN:VTIMEZONE
TZID:America/Chicago
BEGIN:DAYLIGHT
TZOFFSETFROM:-0600
TZOFFSETTO:-0500
TZNAME:CDT
DTSTART:20220313T080000
END:DAYLIGHT
BEGIN:STANDARD
TZOFFSETFROM:-0500
TZOFFSETTO:-0600
TZNAME:CST
DTSTART:20221106T070000
END:STANDARD
BEGIN:DAYLIGHT
TZOFFSETFROM:-0600
TZOFFSETTO:-0500
TZNAME:CDT
DTSTART:20230312T080000
END:DAYLIGHT
BEGIN:STANDARD
TZOFFSETFROM:-0500
TZOFFSETTO:-0600
TZNAME:CST
DTSTART:20231105T070000
END:STANDARD
BEGIN:DAYLIGHT
TZOFFSETFROM:-0600
TZOFFSETTO:-0500
TZNAME:CDT
DTSTART:20240310T080000
END:DAYLIGHT
BEGIN:STANDARD
TZOFFSETFROM:-0500
TZOFFSETTO:-0600
TZNAME:CST
DTSTART:20241103T070000
END:STANDARD
END:VTIMEZONE
BEGIN:VEVENT
DTSTART;VALUE=DATE:20230808
DTEND;VALUE=DATE:20230809
DTSTAMP:20260420T073754
CREATED:20230104T162951Z
LAST-MODIFIED:20230410T141237Z
UID:10001530-1691452800-1691539199@www.chicagocopa.org
SUMMARY:The Leaders Network Community Meeting
DESCRIPTION:COPA plans to attend this meeting comprised of faith and community leaders that work together to organize\, strategize and mobilize to improve the quality of life for the west side communities.  This event begins at 9:30AM and will take place at Columbus Park Refectory (5701 W. Jackson Blvd).
URL:https://www.chicagocopa.org/event/the-leaders-network-community-meeting-8/
END:VEVENT
BEGIN:VEVENT
DTSTART;VALUE=DATE:20230808
DTEND;VALUE=DATE:20230809
DTSTAMP:20260420T073754
CREATED:20230519T131718Z
LAST-MODIFIED:20230602T191323Z
UID:10001340-1691452800-1691539199@www.chicagocopa.org
SUMMARY:CPS Back to School Bash at La Follette Park
DESCRIPTION:Chicago Public Schools (CPS) is hosting Back-to-School Bashes for students and families to celebrate and prepare for the start of the 2023-24 school year. COPA will participate in the CPS bashes to celebrate the new school year and explain to families the role our agency plays in police accountability. This event will be held from 10am-2pm at La Follette Park.
URL:https://www.chicagocopa.org/event/cps-back-to-school-bash-at-westinghouse-high-school/
END:VEVENT
BEGIN:VEVENT
DTSTART;VALUE=DATE:20230809
DTEND;VALUE=DATE:20230810
DTSTAMP:20260420T073754
CREATED:20230519T131837Z
LAST-MODIFIED:20230602T191455Z
UID:10001342-1691539200-1691625599@www.chicagocopa.org
SUMMARY:CPS Back to School Bash at Westinghouse High School
DESCRIPTION:Chicago Public Schools (CPS) is hosting Back-to-School Bashes for students and families to celebrate and prepare for the start of the 2023-24 school year. COPA will participate in the CPS bashes to celebrate the new school year and explain to families the role our agency plays in police accountability. This event will be held from 10am-2pm at Westinghouse House Park.
URL:https://www.chicagocopa.org/event/cps-back-to-school-bash-at-la-follette-park/
END:VEVENT
BEGIN:VEVENT
DTSTART;VALUE=DATE:20230809
DTEND;VALUE=DATE:20230810
DTSTAMP:20260420T073754
CREATED:20230623T182029Z
LAST-MODIFIED:20230623T182029Z
UID:10001647-1691539200-1691625599@www.chicagocopa.org
SUMMARY:CPD Know Your Rights Roundtable Discussion
DESCRIPTION:Join the Chicago Police Department\, COPA\, and community members for a free roundtable discussion about knowing your rights when interacting with law enforcement. These roundtable discussions will provide the public with transparent information that can lead to meaningful\, collaborative\, and positive outcomes. This event will be held on August 9th from 6-7:30PM and take place at Sulzer Regional Library.
URL:https://www.chicagocopa.org/event/cpd-know-your-rights-roundtable-discussion-6/
END:VEVENT
BEGIN:VEVENT
DTSTART;VALUE=DATE:20230810
DTEND;VALUE=DATE:20230811
DTSTAMP:20260420T073754
CREATED:20230329T165752Z
LAST-MODIFIED:20230810T161002Z
UID:10001308-1691625600-1691711999@www.chicagocopa.org
SUMMARY:COPA and the City Clerk Mobile City Hall Community Event
DESCRIPTION:COPA plans to  join Anna Valencia City Clerk Office along with various other city departments and sister agencies to connect with the community.  At this mobile outreach event\, COPA will have a resource table and share with the public the agency role in police oversight.  This event will be held from 4-7PM at Margate Park (4921 N. Marine).
URL:https://www.chicagocopa.org/event/copa-and-the-city-clerk-mobile-city-hall-community-event-27/
END:VEVENT
BEGIN:VEVENT
DTSTART;VALUE=DATE:20230811
DTEND;VALUE=DATE:20230812
DTSTAMP:20260420T073754
CREATED:20230519T131950Z
LAST-MODIFIED:20230519T131950Z
UID:10001344-1691712000-1691798399@www.chicagocopa.org
SUMMARY:CPS Back to School Bash at Field Elementary School
DESCRIPTION:Chicago Public Schools (CPS) is hosting Back-to-School Bashes for students and families to celebrate and prepare for the start of the 2023-24 school year. COPA will participate in the CPS bashes to celebrate the new school year and explain to families the role our agency plays in police accountability. This event will be held from 10am-2pm at Field Elementary School.
URL:https://www.chicagocopa.org/event/cps-back-to-school-bash-at-field-elementary-school/
END:VEVENT
BEGIN:VEVENT
DTSTART;VALUE=DATE:20230812
DTEND;VALUE=DATE:20230813
DTSTAMP:20260420T073754
CREATED:20230719T155857Z
LAST-MODIFIED:20230719T160934Z
UID:10001367-1691798400-1691884799@www.chicagocopa.org
SUMMARY:Convoy of Hope Chicago Community Event
DESCRIPTION:Greater Southwest Development Corporation and Convoy of Hope Chicago is planning a community event on August 12th at 10AM at Marquette Park. This community event is a collaborative effort to bring hope to the Southwest Side of Chicago through free groceries\, health screenings\, job and career services\, family portraits\, haircuts\, a Kids Zone\, games and activities for children and much more. COPA will participate and set up a resource table to share with the public our agency role in police accountability.  \n 
URL:https://www.chicagocopa.org/event/convoy-of-hope-chicago-community-event/
END:VEVENT
BEGIN:VEVENT
DTSTART;VALUE=DATE:20230812
DTEND;VALUE=DATE:20230813
DTSTAMP:20260420T073754
CREATED:20230801T170718Z
LAST-MODIFIED:20230801T170718Z
UID:10001661-1691798400-1691884799@www.chicagocopa.org
SUMMARY:Latino Family Wellness & Health Equity Fiesta Tour 2023
DESCRIPTION:COPA will attend the Latino Health Wellness & Health Equity Fiesta Tour 2023 Summer Fair. This community event will offer health screenings\, community resource tables\, food and activities. At this outreach event COPA will have a resource table and share with the public the agency role in police oversight. This event will take place on Saturday\, August 12th from 9AM-2PM at Instituto del Progeso Latino (2520 S. Western Avenue\, Chicago\, IL 60608).
URL:https://www.chicagocopa.org/event/latino-family-wellness-health-equity-fiesta-tour-2023/
END:VEVENT
END:VCALENDAR