BEGIN:VCALENDAR
VERSION:2.0
PRODID:-//Civilian Office of Police Accountability - ECPv6.15.18//NONSGML v1.0//EN
CALSCALE:GREGORIAN
METHOD:PUBLISH
X-WR-CALNAME:Civilian Office of Police Accountability
X-ORIGINAL-URL:https://www.chicagocopa.org
X-WR-CALDESC:Events for Civilian Office of Police Accountability
REFRESH-INTERVAL;VALUE=DURATION:PT1H
X-Robots-Tag:noindex
X-PUBLISHED-TTL:PT1H
BEGIN:VTIMEZONE
TZID:America/Chicago
BEGIN:DAYLIGHT
TZOFFSETFROM:-0600
TZOFFSETTO:-0500
TZNAME:CDT
DTSTART:20210314T080000
END:DAYLIGHT
BEGIN:STANDARD
TZOFFSETFROM:-0500
TZOFFSETTO:-0600
TZNAME:CST
DTSTART:20211107T070000
END:STANDARD
BEGIN:DAYLIGHT
TZOFFSETFROM:-0600
TZOFFSETTO:-0500
TZNAME:CDT
DTSTART:20220313T080000
END:DAYLIGHT
BEGIN:STANDARD
TZOFFSETFROM:-0500
TZOFFSETTO:-0600
TZNAME:CST
DTSTART:20221106T070000
END:STANDARD
BEGIN:DAYLIGHT
TZOFFSETFROM:-0600
TZOFFSETTO:-0500
TZNAME:CDT
DTSTART:20230312T080000
END:DAYLIGHT
BEGIN:STANDARD
TZOFFSETFROM:-0500
TZOFFSETTO:-0600
TZNAME:CST
DTSTART:20231105T070000
END:STANDARD
END:VTIMEZONE
BEGIN:VEVENT
DTSTART;VALUE=DATE:20220816
DTEND;VALUE=DATE:20220817
DTSTAMP:20260421T050125
CREATED:20220714T184916Z
LAST-MODIFIED:20220817T003621Z
UID:10001438-1660608000-1660694399@www.chicagocopa.org
SUMMARY:Nobel Neighbors Community Meeting
DESCRIPTION:COPA will attend the Nobel Neighbors Community Meeting in Humboldt Park and explain the agency role in police oversight.
URL:https://www.chicagocopa.org/event/nobel-neighbors-community-meeting-5/
CATEGORIES:Community Engagement
END:VEVENT
BEGIN:VEVENT
DTSTART;TZID=America/Chicago:20220816T120000
DTEND;TZID=America/Chicago:20220816T150000
DTSTAMP:20260421T050125
CREATED:20220608T170955Z
LAST-MODIFIED:20220608T170955Z
UID:10001141-1660651200-1660662000@www.chicagocopa.org
SUMMARY:LUCHA & PLAYSTREETS Block Party
DESCRIPTION:COPA will be present at the LUCHA & PLAYSTREETS Block Party to share with members of the community the role the agency plays in police oversight. This free event open to the public will offer community resources\, music\, games\, food and more.
URL:https://www.chicagocopa.org/event/lucha-playstreets-block-party-6/
END:VEVENT
BEGIN:VEVENT
DTSTART;VALUE=DATE:20220818
DTEND;VALUE=DATE:20220819
DTSTAMP:20260421T050125
CREATED:20220823T133126Z
LAST-MODIFIED:20220823T133429Z
UID:10001473-1660780800-1660867199@www.chicagocopa.org
SUMMARY:COPA and the City Clerk Mobile City Hall Community Event
DESCRIPTION:COPA plans to  join Anna Valencia City Clerk Office along with various other city departments and sister agencies to connect with the community.  At this mobile outreach event COPA will have a resource table and share with the public the agency role in police oversight and explain COPA’s complaint process from intake to case closure.  This event will take place at Marquette Park (6743 S. Kedzie).
URL:https://www.chicagocopa.org/event/copa-and-the-city-clerk-mobile-city-hall-community-event/
END:VEVENT
BEGIN:VEVENT
DTSTART;TZID=America/Chicago:20220818T193000
DTEND;TZID=America/Chicago:20220818T203000
DTSTAMP:20260421T050125
CREATED:20211221T141721Z
LAST-MODIFIED:20220819T191654Z
UID:10001126-1660851000-1660854600@www.chicagocopa.org
SUMMARY:Public Meeting of the Police Board
DESCRIPTION:The Police Board holds a regular public meeting once a month. The Superintendent of Police (or his designee) and the Chief Administrator of the Civilian Office of Police Accountability (or her designee) will be at the meetings. Members of the public are invited to attend and are welcome to address questions or comments to the Board. Prior sign-up is required of those wishing to address the Board; to add your name to the list of speakers\, please contact the Chicago Police Board’s office. The meetings are scheduled to begin at 7:30 p.m. Whether the meeting will be in person or via Zoom will be determined closer to each meeting date. \n 
URL:https://www.chicagocopa.org/event/public-meeting-of-the-police-board-23/
CATEGORIES:Public Event/Meeting
END:VEVENT
BEGIN:VEVENT
DTSTART;VALUE=DATE:20220819
DTEND;VALUE=DATE:20220820
DTSTAMP:20260421T050125
CREATED:20220714T193901Z
LAST-MODIFIED:20220817T003715Z
UID:10001446-1660867200-1660953599@www.chicagocopa.org
SUMMARY:AETNA RESOURCE & HEALTH FAIR
DESCRIPTION:COPA plans to join AETNA Better Health of Illinois for its free Health & Resource Fair and share with the community COPA’s role in police oversight.
URL:https://www.chicagocopa.org/event/aetna-resource-health-fair-2/
CATEGORIES:Community Engagement
END:VEVENT
END:VCALENDAR