BEGIN:VCALENDAR
VERSION:2.0
PRODID:-//Civilian Office of Police Accountability - ECPv6.15.18//NONSGML v1.0//EN
CALSCALE:GREGORIAN
METHOD:PUBLISH
X-ORIGINAL-URL:https://www.chicagocopa.org
X-WR-CALDESC:Events for Civilian Office of Police Accountability
REFRESH-INTERVAL;VALUE=DURATION:PT1H
X-Robots-Tag:noindex
X-PUBLISHED-TTL:PT1H
BEGIN:VTIMEZONE
TZID:America/Chicago
BEGIN:DAYLIGHT
TZOFFSETFROM:-0600
TZOFFSETTO:-0500
TZNAME:CDT
DTSTART:20240310T080000
END:DAYLIGHT
BEGIN:STANDARD
TZOFFSETFROM:-0500
TZOFFSETTO:-0600
TZNAME:CST
DTSTART:20241103T070000
END:STANDARD
BEGIN:DAYLIGHT
TZOFFSETFROM:-0600
TZOFFSETTO:-0500
TZNAME:CDT
DTSTART:20250309T080000
END:DAYLIGHT
BEGIN:STANDARD
TZOFFSETFROM:-0500
TZOFFSETTO:-0600
TZNAME:CST
DTSTART:20251102T070000
END:STANDARD
BEGIN:DAYLIGHT
TZOFFSETFROM:-0600
TZOFFSETTO:-0500
TZNAME:CDT
DTSTART:20260308T080000
END:DAYLIGHT
BEGIN:STANDARD
TZOFFSETFROM:-0500
TZOFFSETTO:-0600
TZNAME:CST
DTSTART:20261101T070000
END:STANDARD
END:VTIMEZONE
BEGIN:VEVENT
DTSTART;VALUE=DATE:20250116
DTEND;VALUE=DATE:20250117
DTSTAMP:20260425T073608
CREATED:20250117T193723Z
LAST-MODIFIED:20250117T193831Z
UID:10002016-1736985600-1737071999@www.chicagocopa.org
SUMMARY:Final Summary Reports Posted
DESCRIPTION:COPA posted the Final Summary Reports in the following cases\, see the link below for copies of the Reports: \n2021-0000970 \n2021-0004893 \n2023-0000982 \n2023-0003172 \n2023-0004853 \nCase Portal \n \n 
URL:https://www.chicagocopa.org/event/final-summary-reports-posted/
CATEGORIES:Final Summary Report
END:VEVENT
BEGIN:VEVENT
DTSTART;VALUE=DATE:20250122
DTEND;VALUE=DATE:20250123
DTSTAMP:20260425T073608
CREATED:20250122T173651Z
LAST-MODIFIED:20250122T173651Z
UID:10002017-1737504000-1737590399@www.chicagocopa.org
SUMMARY:Transparency Release 2024-0008534
DESCRIPTION:Pursuant to the City of Chicago’s Video Release Policy\, COPA posted materials related to this off-duty officer-involved shooting. The materials are available at the link below.
URL:https://www.chicagocopa.org/event/transparency-release-2024-0008534/
CATEGORIES:Transparency Release
END:VEVENT
BEGIN:VEVENT
DTSTART;VALUE=DATE:20250129
DTEND;VALUE=DATE:20250130
DTSTAMP:20260425T073608
CREATED:20250128T155842Z
LAST-MODIFIED:20250128T155842Z
UID:10002018-1738108800-1738195199@www.chicagocopa.org
SUMMARY:Bingo at DFSS Southwest Regional Senior Center
DESCRIPTION:6117 S Kedzie Ave\, Chicago\, Illinois 60629
URL:https://www.chicagocopa.org/event/bingo-at-dfss-southwest-regional-senior-center/
END:VEVENT
BEGIN:VEVENT
DTSTART;VALUE=DATE:20250130
DTEND;VALUE=DATE:20250131
DTSTAMP:20260425T073608
CREATED:20250128T195617Z
LAST-MODIFIED:20250128T195617Z
UID:10002019-1738195200-1738281599@www.chicagocopa.org
SUMMARY:Northwest Community Alliance Monthly Meeting
DESCRIPTION:2715 N Central
URL:https://www.chicagocopa.org/event/northwest-community-alliance-monthly-meeting-4/
END:VEVENT
BEGIN:VEVENT
DTSTART;VALUE=DATE:20250130
DTEND;VALUE=DATE:20250131
DTSTAMP:20260425T073608
CREATED:20250128T195849Z
LAST-MODIFIED:20250128T200051Z
UID:10002020-1738195200-1738281599@www.chicagocopa.org
SUMMARY:CCPSA Monthly Meeting
DESCRIPTION:Malcolm X College 1900 W Van Buren \n6:30pm
URL:https://www.chicagocopa.org/event/ccpsa-monthly-meeting/
END:VEVENT
BEGIN:VEVENT
DTSTART;TZID=America/Chicago:20250130T080000
DTEND;TZID=America/Chicago:20250130T170000
DTSTAMP:20260425T073608
CREATED:20250130T192425Z
LAST-MODIFIED:20250130T192425Z
UID:10002031-1738224000-1738256400@www.chicagocopa.org
SUMMARY:Final Summary Reports Posted
DESCRIPTION:Today COPA published the Final Summary Report in the following cases. Please follow the link to our Case Portal below to find published reports. \n2021-0004990 \n2023-0001724 \n2023-0001995 \n2023-0002541 \n2023-0004373 \n2023-0005242 \n2023-0005877 \n2024-0003120 \n2024-0003449
URL:https://www.chicagocopa.org/event/final-summary-reports-posted-2/
CATEGORIES:Final Summary Report
END:VEVENT
BEGIN:VEVENT
DTSTART;VALUE=DATE:20250204
DTEND;VALUE=DATE:20250205
DTSTAMP:20260425T073608
CREATED:20250204T170206Z
LAST-MODIFIED:20250204T170206Z
UID:10002032-1738627200-1738713599@www.chicagocopa.org
SUMMARY:Transparency Release 2025-0000032
DESCRIPTION:Pursuant to the City of Chicago’s Video Release Policy\, COPA posted materials related to this off-duty officer-involved shooting. The materials are available at the link below.
URL:https://www.chicagocopa.org/event/transparency-release-2025-0000032/
CATEGORIES:Transparency Release
END:VEVENT
BEGIN:VEVENT
DTSTART;VALUE=DATE:20250206
DTEND;VALUE=DATE:20250207
DTSTAMP:20260425T073608
CREATED:20250128T200519Z
LAST-MODIFIED:20250128T200519Z
UID:10002021-1738800000-1738886399@www.chicagocopa.org
SUMMARY:Westside Ministers' Coalition Monthly Community Meeting
DESCRIPTION:10am \n5701 W Jackson Blvd
URL:https://www.chicagocopa.org/event/westside-ministers-coalition-monthly-community-meeting-9/
END:VEVENT
BEGIN:VEVENT
DTSTART;VALUE=DATE:20250206
DTEND;VALUE=DATE:20250207
DTSTAMP:20260425T073608
CREATED:20250206T211341Z
LAST-MODIFIED:20250206T211341Z
UID:10002034-1738800000-1738886399@www.chicagocopa.org
SUMMARY:FSRs Posted
DESCRIPTION:COPA Posted the following Final Summary Reports. Please visit the Case Portal at the link below to view all FSRs: \n2019-0002473 \n2021-0000928 \n2024-0005146
URL:https://www.chicagocopa.org/event/fsrs-posted-2/
CATEGORIES:Final Summary Report
END:VEVENT
BEGIN:VEVENT
DTSTART;VALUE=DATE:20250207
DTEND;VALUE=DATE:20250208
DTSTAMP:20260425T073608
CREATED:20250128T201056Z
LAST-MODIFIED:20250128T201725Z
UID:10002022-1738886400-1738972799@www.chicagocopa.org
SUMMARY:National Black HIV/AIDS Awareness Day Health and Resource Fair
DESCRIPTION:4314 S Cottage Grove Ave
URL:https://www.chicagocopa.org/event/national-black-hiv-aids-awareness-day-health-and-resource-fair/
END:VEVENT
BEGIN:VEVENT
DTSTART;VALUE=DATE:20250211
DTEND;VALUE=DATE:20250212
DTSTAMP:20260425T073608
CREATED:20250128T202728Z
LAST-MODIFIED:20250128T202728Z
UID:10002024-1739232000-1739318399@www.chicagocopa.org
SUMMARY:Leaders Network Monthly Community Meeting
DESCRIPTION:5701 W Jackson Blvd
URL:https://www.chicagocopa.org/event/leaders-network-monthly-community-meeting/
END:VEVENT
BEGIN:VEVENT
DTSTART;VALUE=DATE:20250211
DTEND;VALUE=DATE:20250212
DTSTAMP:20260425T073608
CREATED:20250211T163610Z
LAST-MODIFIED:20250211T163610Z
UID:10002035-1739232000-1739318399@www.chicagocopa.org
SUMMARY:Transparency Release 2024-0008840
DESCRIPTION:Pursuant to the City of Chicago’s Video Release Policy\, COPA posted materials related to this off-duty officer-involved shooting. The materials are available at the link below.
URL:https://www.chicagocopa.org/event/transparency-release-2024-0008840/
CATEGORIES:Transparency Release
END:VEVENT
BEGIN:VEVENT
DTSTART;VALUE=DATE:20250212
DTEND;VALUE=DATE:20250213
DTSTAMP:20260425T073608
CREATED:20250128T204430Z
LAST-MODIFIED:20250128T204430Z
UID:10002025-1739318400-1739404799@www.chicagocopa.org
SUMMARY:Lincoln’s Birthday COPA Closed
DESCRIPTION:
URL:https://www.chicagocopa.org/event/lincolns-birthday-copa-closed/
END:VEVENT
BEGIN:VEVENT
DTSTART;VALUE=DATE:20250213
DTEND;VALUE=DATE:20250214
DTSTAMP:20260425T073608
CREATED:20250213T202424Z
LAST-MODIFIED:20250213T202434Z
UID:10002036-1739404800-1739491199@www.chicagocopa.org
SUMMARY:Final Summary Reports Posted
DESCRIPTION:COPA posted the following Final Summary Reports. Please visit the Case Portal at the link below for all FSR posts. \n2019-0001839 \n2020-0004438 \n2022-0004265 \n2023-0001905 \n2023-0004531 \n2023-0005423
URL:https://www.chicagocopa.org/event/21011/
CATEGORIES:Final Summary Report
END:VEVENT
BEGIN:VEVENT
DTSTART;VALUE=DATE:20250217
DTEND;VALUE=DATE:20250218
DTSTAMP:20260425T073608
CREATED:20250128T205047Z
LAST-MODIFIED:20250128T205047Z
UID:10002026-1739750400-1739836799@www.chicagocopa.org
SUMMARY:Washington’s Birthday COPA Closed
DESCRIPTION:
URL:https://www.chicagocopa.org/event/washingtons-birthday-copa-closed/
END:VEVENT
BEGIN:VEVENT
DTSTART;VALUE=DATE:20250218
DTEND;VALUE=DATE:20250219
DTSTAMP:20260425T073608
CREATED:20250128T205158Z
LAST-MODIFIED:20250128T205158Z
UID:10002027-1739836800-1739923199@www.chicagocopa.org
SUMMARY:Nobel Neighbors Monthly Community Meeting
DESCRIPTION:NewLife Church\, 1410 N. Springfield
URL:https://www.chicagocopa.org/event/nobel-neighbors-monthly-community-meeting/
END:VEVENT
BEGIN:VEVENT
DTSTART;VALUE=DATE:20250226
DTEND;VALUE=DATE:20250227
DTSTAMP:20260425T073608
CREATED:20250225T152622Z
LAST-MODIFIED:20250225T152658Z
UID:10002037-1740528000-1740614399@www.chicagocopa.org
SUMMARY:PRCC Reimagine Convener Meeting
DESCRIPTION:
URL:https://www.chicagocopa.org/event/prcc-reimagine-convener-meeting/
END:VEVENT
BEGIN:VEVENT
DTSTART;VALUE=DATE:20250226
DTEND;VALUE=DATE:20250227
DTSTAMP:20260425T073608
CREATED:20250225T152747Z
LAST-MODIFIED:20250225T152747Z
UID:10002038-1740528000-1740614399@www.chicagocopa.org
SUMMARY:Mediation Pilot Program - Community Conversation & Draft Policy Review
DESCRIPTION:
URL:https://www.chicagocopa.org/event/mediation-pilot-program-community-conversation-draft-policy-review/
END:VEVENT
BEGIN:VEVENT
DTSTART;VALUE=DATE:20250227
DTEND;VALUE=DATE:20250228
DTSTAMP:20260425T073608
CREATED:20250225T153124Z
LAST-MODIFIED:20250225T153124Z
UID:10002042-1740614400-1740700799@www.chicagocopa.org
SUMMARY:CCPSA Monthly Meeting
DESCRIPTION:Sullivan High School (6631 N Bosworth Ave\, Chicago\, IL 60626)
URL:https://www.chicagocopa.org/event/ccpsa-monthly-meeting-2/
END:VEVENT
BEGIN:VEVENT
DTSTART;VALUE=DATE:20250228
DTEND;VALUE=DATE:20250301
DTSTAMP:20260425T073608
CREATED:20250225T152848Z
LAST-MODIFIED:20250225T152848Z
UID:10002039-1740700800-1740787199@www.chicagocopa.org
SUMMARY:Black History Month Celebration DFSS Southwest Regional Center
DESCRIPTION:
URL:https://www.chicagocopa.org/event/black-history-month-celebration-dfss-southwest-regional-center/
END:VEVENT
BEGIN:VEVENT
DTSTART;VALUE=DATE:20250228
DTEND;VALUE=DATE:20250301
DTSTAMP:20260425T073608
CREATED:20250225T152914Z
LAST-MODIFIED:20250225T152914Z
UID:10002040-1740700800-1740787199@www.chicagocopa.org
SUMMARY:VPC Youth Serving Committee Mtg
DESCRIPTION:
URL:https://www.chicagocopa.org/event/vpc-youth-serving-committee-mtg/
END:VEVENT
BEGIN:VEVENT
DTSTART;VALUE=DATE:20250301
DTEND;VALUE=DATE:20250302
DTSTAMP:20260425T073608
CREATED:20250225T153010Z
LAST-MODIFIED:20250225T153010Z
UID:10002041-1740787200-1740873599@www.chicagocopa.org
SUMMARY:Pathways to Power: A Career Expo
DESCRIPTION:Saturday\, March 1st\, 2025 \n10:00 AM – 2:00 PM  \nOlive-Harvey College\, 10001 S Woodlawn Ave\, Chicago\, IL 60628. 
URL:https://www.chicagocopa.org/event/pathways-to-power-a-career-expo/
END:VEVENT
BEGIN:VEVENT
DTSTART;VALUE=DATE:20250305
DTEND;VALUE=DATE:20250306
DTSTAMP:20260425T073608
CREATED:20250205T150335Z
LAST-MODIFIED:20250205T150514Z
UID:10002033-1741132800-1741219199@www.chicagocopa.org
SUMMARY:Network 9 Chief's State of the School Address & Resource Fair
DESCRIPTION:Dyett High School 555 E. 51st Street\, Chicago\, IL 60615
URL:https://www.chicagocopa.org/event/network-9-chiefs-state-of-the-school-address-resource-fair/
END:VEVENT
BEGIN:VEVENT
DTSTART;VALUE=DATE:20250306
DTEND;VALUE=DATE:20250307
DTSTAMP:20260425T073608
CREATED:20250128T205254Z
LAST-MODIFIED:20250128T205254Z
UID:10002028-1741219200-1741305599@www.chicagocopa.org
SUMMARY:Westside Ministers' Coalition Monthly Community Meeting
DESCRIPTION:5701 W Jackson Blvd
URL:https://www.chicagocopa.org/event/westside-ministers-coalition-monthly-community-meeting-22/
END:VEVENT
BEGIN:VEVENT
DTSTART;VALUE=DATE:20250306
DTEND;VALUE=DATE:20250307
DTSTAMP:20260425T073608
CREATED:20250128T205330Z
LAST-MODIFIED:20250128T205330Z
UID:10002029-1741219200-1741305599@www.chicagocopa.org
SUMMARY:Intrinsic Schools Networking Night - Belmont Campus
DESCRIPTION:Intrinsic Schools (4540 W Belmont Ave\, Chicago\, IL 60641)
URL:https://www.chicagocopa.org/event/intrinsic-schools-networking-night-belmont-campus/
END:VEVENT
BEGIN:VEVENT
DTSTART;VALUE=DATE:20250308
DTEND;VALUE=DATE:20250309
DTSTAMP:20260425T073608
CREATED:20250225T153339Z
LAST-MODIFIED:20250225T153339Z
UID:10002043-1741392000-1741478399@www.chicagocopa.org
SUMMARY:Chicago Scholars' Industry Career Nights
DESCRIPTION:
URL:https://www.chicagocopa.org/event/chicago-scholars-industry-career-nights/
END:VEVENT
BEGIN:VEVENT
DTSTART;VALUE=DATE:20250308
DTEND;VALUE=DATE:20250309
DTSTAMP:20260425T073608
CREATED:20250305T201655Z
LAST-MODIFIED:20250305T201655Z
UID:10002049-1741392000-1741478399@www.chicagocopa.org
SUMMARY:Teen Opportunity Fair - Malcolm X College
DESCRIPTION:
URL:https://www.chicagocopa.org/event/teen-opportunity-fair-malcolm-x-college/
END:VEVENT
BEGIN:VEVENT
DTSTART;VALUE=DATE:20250311
DTEND;VALUE=DATE:20250312
DTSTAMP:20260425T073608
CREATED:20250128T205414Z
LAST-MODIFIED:20250128T205414Z
UID:10002030-1741651200-1741737599@www.chicagocopa.org
SUMMARY:Leaders Network Monthly Community Meeting
DESCRIPTION:5701 W Jackson Blvd
URL:https://www.chicagocopa.org/event/leaders-network-monthly-community-meeting-2/
END:VEVENT
BEGIN:VEVENT
DTSTART;VALUE=DATE:20250312
DTEND;VALUE=DATE:20250313
DTSTAMP:20260425T073608
CREATED:20250305T201828Z
LAST-MODIFIED:20250305T201828Z
UID:10002051-1741737600-1741823999@www.chicagocopa.org
SUMMARY:CICS West Belden Community Leaders Breakfast
DESCRIPTION:
URL:https://www.chicagocopa.org/event/cics-west-belden-community-leaders-breakfast/
END:VEVENT
BEGIN:VEVENT
DTSTART;VALUE=DATE:20250312
DTEND;VALUE=DATE:20250313
DTSTAMP:20260425T073608
CREATED:20250312T192312Z
LAST-MODIFIED:20250312T192312Z
UID:10002069-1741737600-1741823999@www.chicagocopa.org
SUMMARY:Transparency Release 2025-0000547
DESCRIPTION:Pursuant to the City of Chicago’s Video Release Policy\, COPA posted materials related to this fatal officer-involved shooting. The materials are available at the link below.
URL:https://www.chicagocopa.org/event/transparency-release-2025-0000547/
CATEGORIES:Transparency Release
END:VEVENT
END:VCALENDAR