BEGIN:VCALENDAR
VERSION:2.0
PRODID:-//Civilian Office of Police Accountability - ECPv6.15.18//NONSGML v1.0//EN
CALSCALE:GREGORIAN
METHOD:PUBLISH
X-WR-CALNAME:Civilian Office of Police Accountability
X-ORIGINAL-URL:https://www.chicagocopa.org
X-WR-CALDESC:Events for Civilian Office of Police Accountability
REFRESH-INTERVAL;VALUE=DURATION:PT1H
X-Robots-Tag:noindex
X-PUBLISHED-TTL:PT1H
BEGIN:VTIMEZONE
TZID:America/Chicago
BEGIN:DAYLIGHT
TZOFFSETFROM:-0600
TZOFFSETTO:-0500
TZNAME:CDT
DTSTART:20220313T080000
END:DAYLIGHT
BEGIN:STANDARD
TZOFFSETFROM:-0500
TZOFFSETTO:-0600
TZNAME:CST
DTSTART:20221106T070000
END:STANDARD
BEGIN:DAYLIGHT
TZOFFSETFROM:-0600
TZOFFSETTO:-0500
TZNAME:CDT
DTSTART:20230312T080000
END:DAYLIGHT
BEGIN:STANDARD
TZOFFSETFROM:-0500
TZOFFSETTO:-0600
TZNAME:CST
DTSTART:20231105T070000
END:STANDARD
BEGIN:DAYLIGHT
TZOFFSETFROM:-0600
TZOFFSETTO:-0500
TZNAME:CDT
DTSTART:20240310T080000
END:DAYLIGHT
BEGIN:STANDARD
TZOFFSETFROM:-0500
TZOFFSETTO:-0600
TZNAME:CST
DTSTART:20241103T070000
END:STANDARD
BEGIN:DAYLIGHT
TZOFFSETFROM:-0600
TZOFFSETTO:-0500
TZNAME:CDT
DTSTART:20250309T080000
END:DAYLIGHT
BEGIN:STANDARD
TZOFFSETFROM:-0500
TZOFFSETTO:-0600
TZNAME:CST
DTSTART:20251102T070000
END:STANDARD
END:VTIMEZONE
BEGIN:VEVENT
DTSTART;VALUE=DATE:20240205
DTEND;VALUE=DATE:20240206
DTSTAMP:20260419T081343
CREATED:20240202T222001Z
LAST-MODIFIED:20240202T222001Z
UID:10001792-1707091200-1707177599@www.chicagocopa.org
SUMMARY:COPA in the Community at Legler Regional Chicago Public Library
DESCRIPTION:COPA plans to visit this library to help residents in this community learn more about our agency mission and vision. During COPA’s visit we plan to also provide the public with an overview of our agency\, explain the importance of police oversight\, and answer any questions that residents may have about our agency. COPA will be present at Legler Regional Chicago Public Library (115 S. Pulaski Road) on February 5th from 1-5PM.
URL:https://www.chicagocopa.org/event/copa-in-the-community-at-legler-regional-chicago-public-library/
END:VEVENT
BEGIN:VEVENT
DTSTART;VALUE=DATE:20240201
DTEND;VALUE=DATE:20240202
DTSTAMP:20260419T081343
CREATED:20240216T160757Z
LAST-MODIFIED:20240216T160757Z
UID:10001802-1706745600-1706831999@www.chicagocopa.org
SUMMARY:COPA in the Community Visit to DFSS Pilsen Center
DESCRIPTION:COPA plans to visit this DFSS senior center to help residents in this community learn more about our agency mission and vision. During COPA’s visit we plan to also provide seniors with an overview of our agency\, explain the importance of police oversight\, and answer any questions that residents may have about our agency. This event will be held from 10AM-NOON at 2021 S. Morgan Street\, Chicago\, IL.
URL:https://www.chicagocopa.org/event/copa-in-the-community-visit-to-dfss-pilsen-center/
END:VEVENT
BEGIN:VEVENT
DTSTART;VALUE=DATE:20240201
DTEND;VALUE=DATE:20240202
DTSTAMP:20260419T081343
CREATED:20231218T184917Z
LAST-MODIFIED:20231218T184917Z
UID:10001736-1706745600-1706831999@www.chicagocopa.org
SUMMARY:Westside Ministers’ Coalition Monthly Community Meeting
DESCRIPTION:COPA plans to attend the Westside Ministers’ Coalition monthly community meeting. This organization mission is to provide services that will initiate self-help efforts to improve the Austin community of Chicago in areas of housing\, public safety\, reentry\, clergy involvement\, education\, health\, energy\, conservation\, community\, youth\, and economic development\, to work in cooperation with other organizations sharing similar values. This event begins at 10am and will be held at the Columbus Park Refectory.
URL:https://www.chicagocopa.org/event/westside-ministers-coalition-monthly-community-meeting-10/
END:VEVENT
BEGIN:VEVENT
DTSTART;VALUE=DATE:20240131
DTEND;VALUE=DATE:20240201
DTSTAMP:20260419T081343
CREATED:20240403T212213Z
LAST-MODIFIED:20240403T212213Z
UID:10001834-1706659200-1706745599@www.chicagocopa.org
SUMMARY:Mikva Challenge Safety & Justice Youth Council
DESCRIPTION:COPA’s First Deputy Chief Administrator Ephraim Eaddy\, Deputy Chief Administrator Justin Escamilla\, and Director of Public Affairs Carlos Rivas presented to a group at Mikva Challenge Safety & Justice Youth Council on COPA & police accountability’s impact on youth.
URL:https://www.chicagocopa.org/event/mikva-challenge-safety-justice-youth-council-2/
END:VEVENT
BEGIN:VEVENT
DTSTART;VALUE=DATE:20240127
DTEND;VALUE=DATE:20240128
DTSTAMP:20260419T081343
CREATED:20240126T205650Z
LAST-MODIFIED:20240126T205701Z
UID:10001789-1706313600-1706399999@www.chicagocopa.org
SUMMARY:10th Driver's License Reinstatement Expo Hosted By Pilsen Neighbors Community Council
DESCRIPTION:COPA plans to set up a resource table at this event to share with the community our agency mission and help them understand the importance of police oversight. This event will take place from 9AM-3PM at Malcolm X College (1900 W. Jackson Blvd. – Chicago\, IL 60612).
URL:https://www.chicagocopa.org/event/10th-drivers-license-reinstatement-expo-hosted-by-pilsen-neighbors-community-council/
END:VEVENT
BEGIN:VEVENT
DTSTART;VALUE=DATE:20240125
DTEND;VALUE=DATE:20240126
DTSTAMP:20260419T081343
CREATED:20240116T145054Z
LAST-MODIFIED:20240116T145054Z
UID:10001781-1706140800-1706227199@www.chicagocopa.org
SUMMARY:CCPSA Monthly Public Meeting
DESCRIPTION:COPA plans to attend the monthly meeting of the Community Commission for Public Safety & Accountability (CCPSA). CCPSA holds a monthly community meeting to discuss updates to its agency along with sharing any concerns or comments the public may have as it relates to affairs with CPD\, Police Board and COPA. This meeting begins at 6:30PM and will take place at the Irish American Heritage Center (4626 N. Knox\, Chicago\, IL).
URL:https://www.chicagocopa.org/event/ccpsa-monthly-public-meeting-10/
END:VEVENT
BEGIN:VEVENT
DTSTART;VALUE=DATE:20240125
DTEND;VALUE=DATE:20240126
DTSTAMP:20260419T081343
CREATED:20231218T202002Z
LAST-MODIFIED:20231218T202002Z
UID:10001748-1706140800-1706227199@www.chicagocopa.org
SUMMARY:Northwest Community Alliance Monthly Meeting
DESCRIPTION:COPA will meet with various not-for-profit organizations to discuss community resources that can be offered to Hispanic communities in Chicago. This meeting begins at 9:30am.
URL:https://www.chicagocopa.org/event/northwest-community-alliance-monthly-meeting/
END:VEVENT
BEGIN:VEVENT
DTSTART;VALUE=DATE:20240124
DTEND;VALUE=DATE:20240125
DTSTAMP:20260419T081343
CREATED:20240116T144655Z
LAST-MODIFIED:20240116T144655Z
UID:10001780-1706054400-1706140799@www.chicagocopa.org
SUMMARY:COPA in the Community Visit to DFSS West Town Center
DESCRIPTION:COPA plans to visit this DFSS senior center to help residents in this community learn more about our agency mission and vision. During COPA’s visit we plan to also provide seniors with an overview of our agency\, explain the importance of police oversight\, and answer any questions that residents may have about our agency. This event will take place on January 24\, 2024 at 1613 W. Chicago Avenue.
URL:https://www.chicagocopa.org/event/copa-in-the-community-visit-to-dfss-west-town-center/
END:VEVENT
BEGIN:VEVENT
DTSTART;VALUE=DATE:20240123
DTEND;VALUE=DATE:20240124
DTSTAMP:20260419T081343
CREATED:20240415T233354Z
LAST-MODIFIED:20240415T233354Z
UID:10001893-1705968000-1706054399@www.chicagocopa.org
SUMMARY:CCPSA Public Hearing with CPD Superintendent Snelling
DESCRIPTION:COPA attended the Community Commission for Public Safety & Accountability (CCPSA) public hearing with CPD Superintendent Larry Snelling. During this meeting the superintendent spoke to the public and answered questions about various policing issues.
URL:https://www.chicagocopa.org/event/ccpsa-public-hearing-with-cpd-superintendent-snelling-2/
END:VEVENT
BEGIN:VEVENT
DTSTART;VALUE=DATE:20240122
DTEND;VALUE=DATE:20240123
DTSTAMP:20260419T081343
CREATED:20231218T183141Z
LAST-MODIFIED:20231218T183141Z
UID:10001730-1705881600-1705967999@www.chicagocopa.org
SUMMARY:COPA in the Community Visit to DFSS Satellite Senior Center Edgewater
DESCRIPTION:COPA plans to visit this DFSS senior center to help residents in this community learn more about our agency mission and vision. During COPA’s visit we plan to also provide seniors with an overview of our agency\, explain the importance of police oversight\, and answer any questions that residents may have about our agency. This event will take place on January 22\, 2024 at 5917 N. Broadway Street.
URL:https://www.chicagocopa.org/event/copa-in-the-community-visit-to-dfss-satellite-senior-center-edgewater/
END:VEVENT
BEGIN:VEVENT
DTSTART;VALUE=DATE:20240119
DTEND;VALUE=DATE:20240120
DTSTAMP:20260419T081343
CREATED:20240116T144241Z
LAST-MODIFIED:20240116T144241Z
UID:10001779-1705622400-1705708799@www.chicagocopa.org
SUMMARY:COPA in the Community Visit to DFSS Central West Regional Center
DESCRIPTION:COPA plans to visit this DFSS senior center to help residents in this community learn more about our agency mission and vision. During COPA’s visit we plan to also provide seniors with an overview of our agency\, explain the importance of police oversight\, and answer any questions that residents may have about our agency. This event will take place on January 19\, 2024 at 2102 W. Ogden.
URL:https://www.chicagocopa.org/event/copa-in-the-community-visit-to-dfss-central-west-regional-center/
END:VEVENT
BEGIN:VEVENT
DTSTART;VALUE=DATE:20240118
DTEND;VALUE=DATE:20240119
DTSTAMP:20260419T081343
CREATED:20240415T201552Z
LAST-MODIFIED:20240415T202243Z
UID:10001850-1705536000-1705622399@www.chicagocopa.org
SUMMARY:Public Meetings of the Police Board
DESCRIPTION:The Police Board holds a regular public meeting once a month. Members of the public are invited to attend and are welcome to address questions or comments to the Board. The Superintendent of Police (or his designee) and the Chief Administrator of the Civilian Office of Police Accountability (or her designee) will be at the meetings. Prior sign-up is required of those wishing to address the Board; to add your name to the list of speakers\, please contact the Board’s office at 312.742.4194 or PoliceBoard@cityofchicago.org up to 15 minutes before the meeting begins. These monthly meetings are scheduled to begin at 7:30 p.m. and take place at the Chicago Public Safety Headquarters.  Unless otherwise announced in advance\, the meetings will be in-person at Chicago Public Safety Headquarters\, 3510 South Michigan Avenue. The meetings will be carried live by CAN-TV (on Chicago cable channel 27 and streamed at www.cantv.org/watch/stream-can-tv27). \n2024 Schedule \nThursday\, January 18\, 7:30pm \nThursday\, February 22\, 7:30pm \nThursday\, March 21\, 7:30pm \nThursday\, April 18\, 7:30pm \nThursday\, May 16\, 7:30pm \nThursday\, June 20\, 7:30pm \nThursday\, July 18\, 7:30pm \nThursday\, August 15\, 7:30pm \nThursday\, September 19\, 7:30pm \nThursday\, October 17\, 7:30pm \nThursday\, November 21\, 7:30pm \nThursday\, December 19\, 7:30pm
URL:https://www.chicagocopa.org/event/public-meetings-of-the-police-board-35/
END:VEVENT
BEGIN:VEVENT
DTSTART;VALUE=DATE:20240118
DTEND;VALUE=DATE:20240119
DTSTAMP:20260419T081343
CREATED:20240403T212620Z
LAST-MODIFIED:20240403T212620Z
UID:10001835-1705536000-1705622399@www.chicagocopa.org
SUMMARY:Chicago Welcomes You Task Force Meeting
DESCRIPTION:COPA’s Director of Public Affairs Carlos Rivas attended the Chicago is With You Task Force Meeting to help attendees learn more about our agency operations. This meeting was a collaborative community outreach effort aimed at connecting immigrant and refugee communities to mental health\, legal services. Attendees at the meeting were also provided information on how to offer diversity training for employers and educational institutions.
URL:https://www.chicagocopa.org/event/chicago-welcomes-you-task-force-meeting/
END:VEVENT
BEGIN:VEVENT
DTSTART;VALUE=DATE:20240118
DTEND;VALUE=DATE:20240119
DTSTAMP:20260419T081343
CREATED:20231218T183308Z
LAST-MODIFIED:20231218T183308Z
UID:10001731-1705536000-1705622399@www.chicagocopa.org
SUMMARY:COPA in the Community Visit to DFSS Northeast Levy Senior Center
DESCRIPTION:COPA plans to visit this DFSS senior center to help residents in this community learn more about our agency mission and vision. During COPA’s visit we plan to also provide seniors with an overview of our agency\, explain the importance of police oversight\, and answer any questions that residents may have about our agency. This event will take place on January 18\, 2024 at 2019 W. Lawrence Avenue.
URL:https://www.chicagocopa.org/event/copa-in-the-community-visit-to-dfss-northeast-levy-senior-center/
END:VEVENT
BEGIN:VEVENT
DTSTART;VALUE=DATE:20240116
DTEND;VALUE=DATE:20240117
DTSTAMP:20260419T081343
CREATED:20240116T142756Z
LAST-MODIFIED:20240116T142756Z
UID:10001773-1705363200-1705449599@www.chicagocopa.org
SUMMARY:Nobel Neighbors Community Meeting
DESCRIPTION:Each month COPA looks forward to coming together and connecting with many community stakeholders and residents at this outreach event. COPA plans to attend this meeting hosted by Nobel Neighbors\, a community-based organization that focuses on improving the quality of life for residents in Chicago’s West Humboldt Park area. This meeting starts at 10AM and will be held at New Life Church (1410 N. Springfield).
URL:https://www.chicagocopa.org/event/nobel-neighbors-community-meeting-19/
END:VEVENT
BEGIN:VEVENT
DTSTART;VALUE=DATE:20240111
DTEND;VALUE=DATE:20240112
DTSTAMP:20260419T081343
CREATED:20231226T192506Z
LAST-MODIFIED:20231226T192506Z
UID:10001770-1704931200-1705017599@www.chicagocopa.org
SUMMARY:Coalition For A Better Chinese American Community
DESCRIPTION:COPA is looking forward to attending this community resource fair. At this outreach event COPA will be able to set up a resource table and share its agency role in police misconduct. This event will be held at Chinatown Chicago Public Library (2100 S. Wentworth Avenue – Chicago\, IL) from 1-3PM.
URL:https://www.chicagocopa.org/event/coalition-for-a-better-chinese-american-community/
END:VEVENT
BEGIN:VEVENT
DTSTART;VALUE=DATE:20240111
DTEND;VALUE=DATE:20240112
DTSTAMP:20260419T081343
CREATED:20231218T183451Z
LAST-MODIFIED:20231218T183507Z
UID:10001732-1704931200-1705017599@www.chicagocopa.org
SUMMARY:COPA in the Community Visit to DFSS Northwest Copernicus Senior Center
DESCRIPTION:COPA plans to visit this DFSS senior center to help residents in this community learn more about our agency mission and vision. During COPA’s visit we plan to also provide seniors with an overview of our agency\, explain the importance of police oversight\, and answer any questions that residents may have about our agency. This event will take place on January 11\, 2024 at 3160 N. Milwaukee Avenue.
URL:https://www.chicagocopa.org/event/copa-in-the-community-dfss-northwest-copernicus-senior-center/
END:VEVENT
BEGIN:VEVENT
DTSTART;VALUE=DATE:20240110
DTEND;VALUE=DATE:20240111
DTSTAMP:20260419T081343
CREATED:20240415T234420Z
LAST-MODIFIED:20240415T234420Z
UID:10001894-1704844800-1704931199@www.chicagocopa.org
SUMMARY:Humboldt Park Community Stakeholder Group
DESCRIPTION:COPA met with the Humboldt Park Community Stakeholder group which is a collection of representatives from community organizations and agencies working in Humboldt Park. The organization initial goal was to complete a community assessment to better understand the strengths\, needs\, and wants of community members. COPA appreciated its time connecting with this group and helping them understand more about our agency.
URL:https://www.chicagocopa.org/event/humboldt-park-community-stakeholder-group/
END:VEVENT
BEGIN:VEVENT
DTSTART;VALUE=DATE:20240110
DTEND;VALUE=DATE:20240111
DTSTAMP:20260419T081343
CREATED:20231218T183646Z
LAST-MODIFIED:20231218T183646Z
UID:10001733-1704844800-1704931199@www.chicagocopa.org
SUMMARY:COPA in the Community Visit to DFSS Southwest Regional Center
DESCRIPTION:COPA plans to visit this DFSS senior center to help residents in this community learn more about our agency mission and vision. During COPA’s visit we plan to also provide seniors with an overview of our agency\, explain the importance of police oversight\, and answer any questions that residents may have about our agency. This event will take place on January 10\, 2024 at 6117 S. Kedzie Avenue.
URL:https://www.chicagocopa.org/event/copa-in-the-community-visit-to-dfss-southwest-regional-center/
END:VEVENT
BEGIN:VEVENT
DTSTART;VALUE=DATE:20240109
DTEND;VALUE=DATE:20240110
DTSTAMP:20260419T081343
CREATED:20240403T212745Z
LAST-MODIFIED:20240403T212745Z
UID:10001836-1704758400-1704844799@www.chicagocopa.org
SUMMARY:Centro Comunitario Juan Diego Celebration
DESCRIPTION:COPA had the opportunity to celebrate Centro Comunitario Juan Diego on their 30 years of serving the South Chicago community. This community center mission which began with Doña Olivia many decades ago was to provide help where help was needed.
URL:https://www.chicagocopa.org/event/centro-comunitario-juan-diego-celebration/
END:VEVENT
BEGIN:VEVENT
DTSTART;VALUE=DATE:20240109
DTEND;VALUE=DATE:20240110
DTSTAMP:20260419T081343
CREATED:20231208T144817Z
LAST-MODIFIED:20231208T144817Z
UID:10001716-1704758400-1704844799@www.chicagocopa.org
SUMMARY:The Leaders Network Community Meeting
DESCRIPTION:COPA plans to attend this meeting comprised of faith and community leaders that work together to organize\, strategize and mobilize to improve the quality of life for the west side communities. This event begins at 9:30AM and will take place at Columbus Park Refectory (5701 W. Jackson Blvd).
URL:https://www.chicagocopa.org/event/the-leaders-network-community-meeting-13/
END:VEVENT
BEGIN:VEVENT
DTSTART;VALUE=DATE:20240107
DTEND;VALUE=DATE:20240108
DTSTAMP:20260419T081343
CREATED:20230929T142238Z
LAST-MODIFIED:20231121T163325Z
UID:10001688-1704585600-1704671999@www.chicagocopa.org
SUMMARY:Aetna Winter Wellness Health & Resource Fair
DESCRIPTION:COPA will attend Aetna Winter Wellness Health & Resource Fair taking place on January 7th from 1:30-3:30PM at Thurgood Marshall Library (7506 S. Racine Avenue). At this outreach event COPA will have a resource table and share with the public the agency role in police oversight. This resource fair will offer the community activity zone for kids\, free giveaways\, free health screenings\, and free well-being resources.
URL:https://www.chicagocopa.org/event/aetna-winter-wellness-health-resource-fair/
END:VEVENT
BEGIN:VEVENT
DTSTART;VALUE=DATE:20240105
DTEND;VALUE=DATE:20240106
DTSTAMP:20260419T081343
CREATED:20231221T201904Z
LAST-MODIFIED:20231221T201904Z
UID:10001764-1704412800-1704499199@www.chicagocopa.org
SUMMARY:My Chi. My Future. Winter Kickback Series in Humboldt Park
DESCRIPTION:The Winter Kickback Series is back in 2023! Teens in 15 communities are planning several events for their communities over winter break. COPA will attend this upcoming event hosted by Young Men’s Christian Association on Friday\, January 5th from 5-7PM at the 2024 Kickoff Kickback & Coat Drive at the Kelly Hall YMCA (824 N. Hamlin Avenue).
URL:https://www.chicagocopa.org/event/my-chi-my-future-winter-kickback-series-in-humboldt-park/
END:VEVENT
BEGIN:VEVENT
DTSTART;VALUE=DATE:20240105
DTEND;VALUE=DATE:20240106
DTSTAMP:20260419T081343
CREATED:20231221T201743Z
LAST-MODIFIED:20231221T201743Z
UID:10001763-1704412800-1704499199@www.chicagocopa.org
SUMMARY:My Chi. My Future. Winter Kickback Series in Brighton Park
DESCRIPTION:The Winter Kickback Series is back in 2023! Teens in 15 communities are planning several events for their communities over winter break. COPA will attend this upcoming event hosted by SGA Youth & Family Services on Friday\, January 5th from 11AM-4PM at Brighton Park Posada (4830 S. Western Avenue).
URL:https://www.chicagocopa.org/event/my-chi-my-future-winter-kickback-series-in-brighton-park/
END:VEVENT
BEGIN:VEVENT
DTSTART;VALUE=DATE:20240104
DTEND;VALUE=DATE:20240105
DTSTAMP:20260419T081343
CREATED:20231221T201648Z
LAST-MODIFIED:20231221T201648Z
UID:10001762-1704326400-1704412799@www.chicagocopa.org
SUMMARY:My Chi. My Future. Winter Kickback Series in Auburn Gresham
DESCRIPTION:The Winter Kickback Series is back in 2023! Teens in 15 communities are planning several events for their communities over winter break. COPA will attend this upcoming event by Metropolitan Family Services on Thursday\, January 4th from 2-5PM at New Years Move Night (1440 W. 84th St).
URL:https://www.chicagocopa.org/event/my-chi-my-future-winter-kickback-series-in-auburn-gresham/
END:VEVENT
BEGIN:VEVENT
DTSTART;VALUE=DATE:20240104
DTEND;VALUE=DATE:20240105
DTSTAMP:20260419T081343
CREATED:20231208T142726Z
LAST-MODIFIED:20231208T142726Z
UID:10001715-1704326400-1704412799@www.chicagocopa.org
SUMMARY:Westside Ministers' Coalition Monthly Community Meeting
DESCRIPTION:COPA plans to attend the Westside Ministers’ Coalition monthly community meeting. This organization mission is to provide services that will initiate self-help efforts to improve the Austin community of Chicago in areas of housing\, public safety\, reentry\, clergy involvement\, education\, health\, energy\, conservation\, community\, youth\, and economic development\, to work in cooperation with other organizations sharing similar values. This event begins at 10am and will be held at the Columbus Park Refectory.
URL:https://www.chicagocopa.org/event/westside-ministers-coalition-monthly-community-meeting-8/
END:VEVENT
BEGIN:VEVENT
DTSTART;VALUE=DATE:20240103
DTEND;VALUE=DATE:20240104
DTSTAMP:20260419T081343
CREATED:20231221T201554Z
LAST-MODIFIED:20240415T233944Z
UID:10001761-1704240000-1704326399@www.chicagocopa.org
SUMMARY:My Chi. My Future. Winter Kickback Series in Roseland
DESCRIPTION:The Winter Kickback Series is back in 2023! Teens in 15 communities are planning several events for their communities over winter break. COPA will attend this upcoming event by Metropolitan Family Services on Wednesday\, January 3rd from 10AM-3PM at Olive-Harvey Campus Life Day (10001 S. Woodlawn Avenue).
URL:https://www.chicagocopa.org/event/my-chi-my-future-winter-kickback-series-in-greater-roseland/
END:VEVENT
BEGIN:VEVENT
DTSTART;VALUE=DATE:20240102
DTEND;VALUE=DATE:20240103
DTSTAMP:20260419T081343
CREATED:20240102T151251Z
LAST-MODIFIED:20240102T151251Z
UID:10001772-1704153600-1704239999@www.chicagocopa.org
SUMMARY:CPD Beat 2535 Meeting
DESCRIPTION:Nobel Neighbors has invited COPA\, local police\, church leaders\, elected officials\, and community residents to join them at the Chicago Police Department’s Beat 2535 meeting. Nobel Neighbors plans to discuss their elevated concerns about recent murders and overall neighborhood security. The Beat meeting is scheduled for 6:30PM on January 2\, 2024 at BVM School (1537 N. Lawndale – Chicago\, IL). \n  \n  \n 
URL:https://www.chicagocopa.org/event/cpd-beat-2535-meeting/
END:VEVENT
BEGIN:VEVENT
DTSTART;VALUE=DATE:20231228
DTEND;VALUE=DATE:20231229
DTSTAMP:20260419T081343
CREATED:20231226T161628Z
LAST-MODIFIED:20231226T161628Z
UID:10001768-1703721600-1703807999@www.chicagocopa.org
SUMMARY:COPA in the Community at Bessie Coleman Chicago Public Library
DESCRIPTION:COPA plans to visit this library to help residents in this community learn more about our agency mission and vision. During COPA’s visit we plan to also provide the public with an overview of our agency\, explain the importance of police oversight\, and answer any questions that residents may have about our agency.  COPA will be present at Bessie Coleman Chicago Public Library (731 E. 63rd Street) on Thursday\, December 28th  from 12-3PM.
URL:https://www.chicagocopa.org/event/copa-in-the-community-at-bessie-coleman-chicago-public-library/
END:VEVENT
BEGIN:VEVENT
DTSTART;VALUE=DATE:20231228
DTEND;VALUE=DATE:20231229
DTSTAMP:20260419T081343
CREATED:20231221T201456Z
LAST-MODIFIED:20231221T201456Z
UID:10001760-1703721600-1703807999@www.chicagocopa.org
SUMMARY:My Chi. My Future. Winter Kickback Series in Belmont Cragin
DESCRIPTION:The Winter Kickback Series is back in 2023! Teens in 15 communities are planning several events for their communities over winter break. COPA will attend this upcoming event hosted by Rincon Family Service on Thursday\, December 28th from 5-8PM at Holiday Fun (6100 W. Fullerton Avenue).
URL:https://www.chicagocopa.org/event/my-chi-my-future-winter-kickback-series-in-belmont-cragin/
END:VEVENT
END:VCALENDAR