BEGIN:VCALENDAR
VERSION:2.0
PRODID:-//Civilian Office of Police Accountability - ECPv6.15.18//NONSGML v1.0//EN
CALSCALE:GREGORIAN
METHOD:PUBLISH
X-ORIGINAL-URL:https://www.chicagocopa.org
X-WR-CALDESC:Events for Civilian Office of Police Accountability
REFRESH-INTERVAL;VALUE=DURATION:PT1H
X-Robots-Tag:noindex
X-PUBLISHED-TTL:PT1H
BEGIN:VTIMEZONE
TZID:America/Chicago
BEGIN:DAYLIGHT
TZOFFSETFROM:-0600
TZOFFSETTO:-0500
TZNAME:CDT
DTSTART:20240310T080000
END:DAYLIGHT
BEGIN:STANDARD
TZOFFSETFROM:-0500
TZOFFSETTO:-0600
TZNAME:CST
DTSTART:20241103T070000
END:STANDARD
BEGIN:DAYLIGHT
TZOFFSETFROM:-0600
TZOFFSETTO:-0500
TZNAME:CDT
DTSTART:20250309T080000
END:DAYLIGHT
BEGIN:STANDARD
TZOFFSETFROM:-0500
TZOFFSETTO:-0600
TZNAME:CST
DTSTART:20251102T070000
END:STANDARD
BEGIN:DAYLIGHT
TZOFFSETFROM:-0600
TZOFFSETTO:-0500
TZNAME:CDT
DTSTART:20260308T080000
END:DAYLIGHT
BEGIN:STANDARD
TZOFFSETFROM:-0500
TZOFFSETTO:-0600
TZNAME:CST
DTSTART:20261101T070000
END:STANDARD
END:VTIMEZONE
BEGIN:VEVENT
DTSTART;VALUE=DATE:20251028
DTEND;VALUE=DATE:20251029
DTSTAMP:20260419T093308
CREATED:20251002T202758Z
LAST-MODIFIED:20251002T202758Z
UID:10002245-1761609600-1761695999@www.chicagocopa.org
SUMMARY:Pullman Parent University Open House
DESCRIPTION:
URL:https://www.chicagocopa.org/event/pullman-parent-university-open-house-2/
END:VEVENT
BEGIN:VEVENT
DTSTART;VALUE=DATE:20251030
DTEND;VALUE=DATE:20251031
DTSTAMP:20260419T093308
CREATED:20250520T185406Z
LAST-MODIFIED:20250520T185406Z
UID:10002153-1761782400-1761868799@www.chicagocopa.org
SUMMARY:Community Commission for Public Safety and Accountability Monthly Meeting
DESCRIPTION:
URL:https://www.chicagocopa.org/event/community-commission-for-public-safety-and-accountability-monthly-meeting-8/
END:VEVENT
BEGIN:VEVENT
DTSTART;VALUE=DATE:20251030
DTEND;VALUE=DATE:20251031
DTSTAMP:20260419T093308
CREATED:20251023T164641Z
LAST-MODIFIED:20251023T164641Z
UID:10002258-1761782400-1761868799@www.chicagocopa.org
SUMMARY:Northwest Community Alliance Monthly Meeting
DESCRIPTION:
URL:https://www.chicagocopa.org/event/northwest-community-alliance-monthly-meeting-12/
END:VEVENT
BEGIN:VEVENT
DTSTART;VALUE=DATE:20251031
DTEND;VALUE=DATE:20251101
DTSTAMP:20260419T093308
CREATED:20250926T150808Z
LAST-MODIFIED:20250926T150808Z
UID:10002242-1761868800-1761955199@www.chicagocopa.org
SUMMARY:Parent University Open House @ Field
DESCRIPTION:
URL:https://www.chicagocopa.org/event/parent-university-open-house-field/
END:VEVENT
BEGIN:VEVENT
DTSTART;VALUE=DATE:20251031
DTEND;VALUE=DATE:20251101
DTSTAMP:20260419T093308
CREATED:20251002T205003Z
LAST-MODIFIED:20251002T205003Z
UID:10002246-1761868800-1761955199@www.chicagocopa.org
SUMMARY:Nixon Elementary Halloween Event
DESCRIPTION:
URL:https://www.chicagocopa.org/event/nixon-elementary-halloween-event/
END:VEVENT
BEGIN:VEVENT
DTSTART;VALUE=DATE:20251101
DTEND;VALUE=DATE:20251102
DTSTAMP:20260419T093308
CREATED:20251014T194542Z
LAST-MODIFIED:20251014T194542Z
UID:10002254-1761955200-1762041599@www.chicagocopa.org
SUMMARY:Amor Eterno: Always and Forever — A Community Celebration Honoring Our Ancestors
DESCRIPTION:
URL:https://www.chicagocopa.org/event/amor-eterno-always-and-forever-a-community-celebration-honoring-our-ancestors/
END:VEVENT
BEGIN:VEVENT
DTSTART;VALUE=DATE:20251104
DTEND;VALUE=DATE:20251105
DTSTAMP:20260419T093308
CREATED:20250520T185710Z
LAST-MODIFIED:20250520T185710Z
UID:10002159-1762214400-1762300799@www.chicagocopa.org
SUMMARY:Westside Ministers' Coalition Monthly Community Meeting
DESCRIPTION:
URL:https://www.chicagocopa.org/event/westside-ministers-coalition-monthly-community-meeting-31/
END:VEVENT
BEGIN:VEVENT
DTSTART;VALUE=DATE:20251105
DTEND;VALUE=DATE:20251106
DTSTAMP:20260419T093308
CREATED:20250926T141448Z
LAST-MODIFIED:20250926T141448Z
UID:10002241-1762300800-1762387199@www.chicagocopa.org
SUMMARY:ABHIL Giving Thanks for Your Health - Health & Resource Fair
DESCRIPTION:
URL:https://www.chicagocopa.org/event/abhil-giving-thanks-for-your-health-health-resource-fair/
END:VEVENT
BEGIN:VEVENT
DTSTART;VALUE=DATE:20251105
DTEND;VALUE=DATE:20251106
DTSTAMP:20260419T093308
CREATED:20251105T180654Z
LAST-MODIFIED:20251105T180654Z
UID:10002260-1762300800-1762387199@www.chicagocopa.org
SUMMARY:Transparency Release 2025-0004513
DESCRIPTION:Pursuant to the City of Chicago’s Video Release Policy\, COPA posted materials related to this fatal officer-involved shooting. The materials are available at the link below.
URL:https://www.chicagocopa.org/event/transparency-release-2025-0004513/
CATEGORIES:Transparency Release
END:VEVENT
BEGIN:VEVENT
DTSTART;VALUE=DATE:20251106
DTEND;VALUE=DATE:20251107
DTSTAMP:20260419T093308
CREATED:20250520T185456Z
LAST-MODIFIED:20250520T185456Z
UID:10002154-1762387200-1762473599@www.chicagocopa.org
SUMMARY:Westside Ministers' Coalition Monthly Community Meeting
DESCRIPTION:
URL:https://www.chicagocopa.org/event/westside-ministers-coalition-monthly-community-meeting-30/
END:VEVENT
BEGIN:VEVENT
DTSTART;VALUE=DATE:20251107
DTEND;VALUE=DATE:20251108
DTSTAMP:20260419T093308
CREATED:20251014T201833Z
LAST-MODIFIED:20251014T201833Z
UID:10002255-1762473600-1762559999@www.chicagocopa.org
SUMMARY:Project Play: Día de los Muertos (Fall-4-All)
DESCRIPTION:
URL:https://www.chicagocopa.org/event/project-play-dia-de-los-muertos-fall-4-all/
END:VEVENT
BEGIN:VEVENT
DTSTART;VALUE=DATE:20251108
DTEND;VALUE=DATE:20251109
DTSTAMP:20260419T093308
CREATED:20251023T164336Z
LAST-MODIFIED:20251023T164336Z
UID:10002257-1762560000-1762646399@www.chicagocopa.org
SUMMARY:Northwest Center Community Celebration & Grand Reopening
DESCRIPTION:
URL:https://www.chicagocopa.org/event/northwest-center-community-celebration-grand-reopening/
END:VEVENT
BEGIN:VEVENT
DTSTART;VALUE=DATE:20251110
DTEND;VALUE=DATE:20251111
DTSTAMP:20260419T093308
CREATED:20251113T154017Z
LAST-MODIFIED:20251113T154017Z
UID:10002263-1762732800-1762819199@www.chicagocopa.org
SUMMARY:Intrinsic Schools Networking Night - Belmont Campus
DESCRIPTION:
URL:https://www.chicagocopa.org/event/intrinsic-schools-networking-night-belmont-campus-2/
END:VEVENT
BEGIN:VEVENT
DTSTART;VALUE=DATE:20251111
DTEND;VALUE=DATE:20251112
DTSTAMP:20260419T093308
CREATED:20250520T185526Z
LAST-MODIFIED:20250520T185526Z
UID:10002155-1762819200-1762905599@www.chicagocopa.org
SUMMARY:Veterans Day COPA Closed
DESCRIPTION:
URL:https://www.chicagocopa.org/event/veterans-day-copa-closed/
END:VEVENT
BEGIN:VEVENT
DTSTART;VALUE=DATE:20251113
DTEND;VALUE=DATE:20251114
DTSTAMP:20260419T093308
CREATED:20250520T185551Z
LAST-MODIFIED:20250520T185551Z
UID:10002156-1762992000-1763078399@www.chicagocopa.org
SUMMARY:Community Commission for Public Safety and Accountability Monthly Meeting
DESCRIPTION:
URL:https://www.chicagocopa.org/event/community-commission-for-public-safety-and-accountability-monthly-meeting-9/
END:VEVENT
BEGIN:VEVENT
DTSTART;VALUE=DATE:20251118
DTEND;VALUE=DATE:20251119
DTSTAMP:20260419T093308
CREATED:20250520T185615Z
LAST-MODIFIED:20250520T185615Z
UID:10002157-1763424000-1763510399@www.chicagocopa.org
SUMMARY:Nobel Neighbors Monthly Community Meeting
DESCRIPTION:
URL:https://www.chicagocopa.org/event/nobel-neighbors-monthly-community-meeting-10/
END:VEVENT
BEGIN:VEVENT
DTSTART;VALUE=DATE:20251118
DTEND;VALUE=DATE:20251119
DTSTAMP:20260419T093308
CREATED:20251106T213246Z
LAST-MODIFIED:20251106T213246Z
UID:10002261-1763424000-1763510399@www.chicagocopa.org
SUMMARY:Black and Brown Unity Resource Fair
DESCRIPTION:
URL:https://www.chicagocopa.org/event/black-and-brown-unity-resource-fair/
END:VEVENT
BEGIN:VEVENT
DTSTART;VALUE=DATE:20251120
DTEND;VALUE=DATE:20251121
DTSTAMP:20260419T093308
CREATED:20251113T154114Z
LAST-MODIFIED:20251113T154114Z
UID:10002264-1763596800-1763683199@www.chicagocopa.org
SUMMARY:CWY Taskforce Meeting
DESCRIPTION:
URL:https://www.chicagocopa.org/event/cwy-taskforce-meeting/
END:VEVENT
BEGIN:VEVENT
DTSTART;VALUE=DATE:20251120
DTEND;VALUE=DATE:20251121
DTSTAMP:20260419T093308
CREATED:20251113T154132Z
LAST-MODIFIED:20251113T154132Z
UID:10002265-1763596800-1763683199@www.chicagocopa.org
SUMMARY:Northwest Center Youth Advisory Council
DESCRIPTION:
URL:https://www.chicagocopa.org/event/northwest-center-youth-advisory-council-2/
END:VEVENT
BEGIN:VEVENT
DTSTART;VALUE=DATE:20251120
DTEND;VALUE=DATE:20251121
DTSTAMP:20260419T093308
CREATED:20251113T154155Z
LAST-MODIFIED:20251113T154155Z
UID:10002266-1763596800-1763683199@www.chicagocopa.org
SUMMARY:MCMF Holiday Community Dinner Planning Committee
DESCRIPTION:
URL:https://www.chicagocopa.org/event/mcmf-holiday-community-dinner-planning-committee/
END:VEVENT
BEGIN:VEVENT
DTSTART;VALUE=DATE:20251124
DTEND;VALUE=DATE:20251125
DTSTAMP:20260419T093308
CREATED:20251113T191615Z
LAST-MODIFIED:20251113T191615Z
UID:10002267-1763942400-1764028799@www.chicagocopa.org
SUMMARY:Acero Carlos Fuentes Report Card Pick Up
DESCRIPTION:
URL:https://www.chicagocopa.org/event/acero-carlos-fuentes-report-card-pick-up/
END:VEVENT
BEGIN:VEVENT
DTSTART;VALUE=DATE:20251124
DTEND;VALUE=DATE:20251125
DTSTAMP:20260419T093308
CREATED:20251113T191639Z
LAST-MODIFIED:20251113T191639Z
UID:10002268-1763942400-1764028799@www.chicagocopa.org
SUMMARY:Acero Robreto Clemente Report Card Pick Up
DESCRIPTION:
URL:https://www.chicagocopa.org/event/acero-robreto-clemente-report-card-pick-up/
END:VEVENT
BEGIN:VEVENT
DTSTART;VALUE=DATE:20251127
DTEND;VALUE=DATE:20251128
DTSTAMP:20260419T093308
CREATED:20250520T185639Z
LAST-MODIFIED:20250520T185639Z
UID:10002158-1764201600-1764287999@www.chicagocopa.org
SUMMARY:Thanksgiving Day COPA Closed
DESCRIPTION:
URL:https://www.chicagocopa.org/event/thanksgiving-day-copa-closed/
END:VEVENT
BEGIN:VEVENT
DTSTART;VALUE=DATE:20251202
DTEND;VALUE=DATE:20251203
DTSTAMP:20260419T093308
CREATED:20251201T150725Z
LAST-MODIFIED:20251201T150725Z
UID:10002287-1764633600-1764719999@www.chicagocopa.org
SUMMARY:Language Access Summit
DESCRIPTION:
URL:https://www.chicagocopa.org/event/language-access-summit/
END:VEVENT
BEGIN:VEVENT
DTSTART;VALUE=DATE:20251203
DTEND;VALUE=DATE:20251204
DTSTAMP:20260419T093308
CREATED:20251201T180621Z
LAST-MODIFIED:20251201T180621Z
UID:10002288-1764720000-1764806399@www.chicagocopa.org
SUMMARY:PRCC MCMF Community Dinner
DESCRIPTION:
URL:https://www.chicagocopa.org/event/prcc-mcmf-community-dinner/
END:VEVENT
BEGIN:VEVENT
DTSTART;VALUE=DATE:20251206
DTEND;VALUE=DATE:20251207
DTSTAMP:20260419T093308
CREATED:20251113T152708Z
LAST-MODIFIED:20251113T152708Z
UID:10002262-1764979200-1765065599@www.chicagocopa.org
SUMMARY:Northwest Center My Chi. My Future. Photos with Santa
DESCRIPTION:
URL:https://www.chicagocopa.org/event/northwest-center-my-chi-my-future-photos-with-santa/
END:VEVENT
BEGIN:VEVENT
DTSTART;VALUE=DATE:20251209
DTEND;VALUE=DATE:20251210
DTSTAMP:20260419T093308
CREATED:20250520T185736Z
LAST-MODIFIED:20250520T185736Z
UID:10002160-1765238400-1765324799@www.chicagocopa.org
SUMMARY:Leaders Network Monthly Community Meeting
DESCRIPTION:
URL:https://www.chicagocopa.org/event/leaders-network-monthly-community-meeting-10/
END:VEVENT
BEGIN:VEVENT
DTSTART;VALUE=DATE:20251211
DTEND;VALUE=DATE:20251212
DTSTAMP:20260419T093308
CREATED:20250520T185804Z
LAST-MODIFIED:20250520T185804Z
UID:10002161-1765411200-1765497599@www.chicagocopa.org
SUMMARY:Community Commission for Public Safety and Accountability Monthly Meeting
DESCRIPTION:
URL:https://www.chicagocopa.org/event/community-commission-for-public-safety-and-accountability-monthly-meeting-10/
END:VEVENT
BEGIN:VEVENT
DTSTART;VALUE=DATE:20251211
DTEND;VALUE=DATE:20251212
DTSTAMP:20260419T093308
CREATED:20251126T174154Z
LAST-MODIFIED:20251126T174154Z
UID:10002286-1765411200-1765497599@www.chicagocopa.org
SUMMARY:UI Health Winter Partnership Social
DESCRIPTION:
URL:https://www.chicagocopa.org/event/ui-health-winter-partnership-social/
END:VEVENT
BEGIN:VEVENT
DTSTART;VALUE=DATE:20251213
DTEND;VALUE=DATE:20251214
DTSTAMP:20260419T093308
CREATED:20251113T192513Z
LAST-MODIFIED:20251113T192513Z
UID:10002269-1765584000-1765670399@www.chicagocopa.org
SUMMARY:Chicago Defender and City Motivators Home for the Holidays: A South Side Celebration
DESCRIPTION:
URL:https://www.chicagocopa.org/event/chicago-defender-and-city-motivators-home-for-the-holidays-a-south-side-celebration/
END:VEVENT
END:VCALENDAR