BEGIN:VCALENDAR
VERSION:2.0
PRODID:-//Civilian Office of Police Accountability - ECPv6.15.18//NONSGML v1.0//EN
CALSCALE:GREGORIAN
METHOD:PUBLISH
X-WR-CALNAME:Civilian Office of Police Accountability
X-ORIGINAL-URL:https://www.chicagocopa.org
X-WR-CALDESC:Events for Civilian Office of Police Accountability
REFRESH-INTERVAL;VALUE=DURATION:PT1H
X-Robots-Tag:noindex
X-PUBLISHED-TTL:PT1H
BEGIN:VTIMEZONE
TZID:America/Chicago
BEGIN:DAYLIGHT
TZOFFSETFROM:-0600
TZOFFSETTO:-0500
TZNAME:CDT
DTSTART:20240310T080000
END:DAYLIGHT
BEGIN:STANDARD
TZOFFSETFROM:-0500
TZOFFSETTO:-0600
TZNAME:CST
DTSTART:20241103T070000
END:STANDARD
BEGIN:DAYLIGHT
TZOFFSETFROM:-0600
TZOFFSETTO:-0500
TZNAME:CDT
DTSTART:20250309T080000
END:DAYLIGHT
BEGIN:STANDARD
TZOFFSETFROM:-0500
TZOFFSETTO:-0600
TZNAME:CST
DTSTART:20251102T070000
END:STANDARD
BEGIN:DAYLIGHT
TZOFFSETFROM:-0600
TZOFFSETTO:-0500
TZNAME:CDT
DTSTART:20260308T080000
END:DAYLIGHT
BEGIN:STANDARD
TZOFFSETFROM:-0500
TZOFFSETTO:-0600
TZNAME:CST
DTSTART:20261101T070000
END:STANDARD
END:VTIMEZONE
BEGIN:VEVENT
DTSTART;VALUE=DATE:20250906
DTEND;VALUE=DATE:20250907
DTSTAMP:20260421T072650
CREATED:20250520T184822Z
LAST-MODIFIED:20250520T184822Z
UID:10002141-1757116800-1757203199@www.chicagocopa.org
SUMMARY:City Clerk's Mobile City Hall - Southeast
DESCRIPTION:
URL:https://www.chicagocopa.org/event/city-clerks-mobile-city-hall-southeast/
END:VEVENT
BEGIN:VEVENT
DTSTART;VALUE=DATE:20250904
DTEND;VALUE=DATE:20250905
DTSTAMP:20260421T072650
CREATED:20250904T024158Z
LAST-MODIFIED:20250904T024158Z
UID:10002217-1756944000-1757030399@www.chicagocopa.org
SUMMARY:Alderwoman in the Park - Moran Park
DESCRIPTION:
URL:https://www.chicagocopa.org/event/alderwoman-in-the-park-moran-park/
END:VEVENT
BEGIN:VEVENT
DTSTART;VALUE=DATE:20250904
DTEND;VALUE=DATE:20250905
DTSTAMP:20260421T072650
CREATED:20250520T184801Z
LAST-MODIFIED:20250520T184801Z
UID:10002140-1756944000-1757030399@www.chicagocopa.org
SUMMARY:Westside Ministers' Coalition Monthly Community Meeting
DESCRIPTION:
URL:https://www.chicagocopa.org/event/westside-ministers-coalition-monthly-community-meeting-28/
END:VEVENT
BEGIN:VEVENT
DTSTART;VALUE=DATE:20250903
DTEND;VALUE=DATE:20250904
DTSTAMP:20260421T072650
CREATED:20250904T024113Z
LAST-MODIFIED:20250904T024113Z
UID:10002216-1756857600-1756943999@www.chicagocopa.org
SUMMARY:Acero Marquez- Open House and Fall Community Resource Fair
DESCRIPTION:
URL:https://www.chicagocopa.org/event/acero-marquez-open-house-and-fall-community-resource-fair/
END:VEVENT
BEGIN:VEVENT
DTSTART;VALUE=DATE:20250901
DTEND;VALUE=DATE:20250902
DTSTAMP:20260421T072650
CREATED:20250520T184733Z
LAST-MODIFIED:20250520T184733Z
UID:10002139-1756684800-1756771199@www.chicagocopa.org
SUMMARY:Labor Day COPA Closed
DESCRIPTION:
URL:https://www.chicagocopa.org/event/labor-day-copa-closed/
END:VEVENT
BEGIN:VEVENT
DTSTART;VALUE=DATE:20250830
DTEND;VALUE=DATE:20250831
DTSTAMP:20260421T072650
CREATED:20250819T170804Z
LAST-MODIFIED:20250819T170804Z
UID:10002213-1756512000-1756598399@www.chicagocopa.org
SUMMARY:T.I.P. Fest 10 Year Anniversary: Performing in Peace
DESCRIPTION:
URL:https://www.chicagocopa.org/event/t-i-p-fest-10-year-anniversary-performing-in-peace/
END:VEVENT
BEGIN:VEVENT
DTSTART;VALUE=DATE:20250829
DTEND;VALUE=DATE:20250830
DTSTAMP:20260421T072650
CREATED:20250826T152454Z
LAST-MODIFIED:20250826T152454Z
UID:10002215-1756425600-1756511999@www.chicagocopa.org
SUMMARY:Take Back the Block - Greater Grand Crossing
DESCRIPTION:
URL:https://www.chicagocopa.org/event/take-back-the-block-greater-grand-crossing/
END:VEVENT
BEGIN:VEVENT
DTSTART;VALUE=DATE:20250828
DTEND;VALUE=DATE:20250829
DTSTAMP:20260421T072650
CREATED:20250826T152122Z
LAST-MODIFIED:20250826T152122Z
UID:10002214-1756339200-1756425599@www.chicagocopa.org
SUMMARY:Northwest Community Alliance Meeting
DESCRIPTION:
URL:https://www.chicagocopa.org/event/northwest-community-alliance-meeting-2/
END:VEVENT
BEGIN:VEVENT
DTSTART;VALUE=DATE:20250828
DTEND;VALUE=DATE:20250829
DTSTAMP:20260421T072650
CREATED:20250520T184708Z
LAST-MODIFIED:20250520T184708Z
UID:10002138-1756339200-1756425599@www.chicagocopa.org
SUMMARY:Community Commission for Public Safety and Accountability Monthly Meeting
DESCRIPTION:
URL:https://www.chicagocopa.org/event/community-commission-for-public-safety-and-accountability-monthly-meeting-6/
END:VEVENT
BEGIN:VEVENT
DTSTART;VALUE=DATE:20250827
DTEND;VALUE=DATE:20250828
DTSTAMP:20260421T072650
CREATED:20250819T170730Z
LAST-MODIFIED:20250819T170730Z
UID:10002212-1756252800-1756339199@www.chicagocopa.org
SUMMARY:Oak Street Health Senior Resource Fair
DESCRIPTION:
URL:https://www.chicagocopa.org/event/oak-street-health-senior-resource-fair/
END:VEVENT
BEGIN:VEVENT
DTSTART;VALUE=DATE:20250826
DTEND;VALUE=DATE:20250827
DTSTAMP:20260421T072650
CREATED:20250520T184633Z
LAST-MODIFIED:20250520T184633Z
UID:10002137-1756166400-1756252799@www.chicagocopa.org
SUMMARY:City Clerk's Mobile City Hall - Midway
DESCRIPTION:
URL:https://www.chicagocopa.org/event/city-clerks-mobile-city-hall-midway/
END:VEVENT
BEGIN:VEVENT
DTSTART;VALUE=DATE:20250823
DTEND;VALUE=DATE:20250824
DTSTAMP:20260421T072650
CREATED:20250520T184554Z
LAST-MODIFIED:20250520T184554Z
UID:10002136-1755907200-1755993599@www.chicagocopa.org
SUMMARY:City Clerk's Mobile City Hall - Austin
DESCRIPTION:
URL:https://www.chicagocopa.org/event/city-clerks-mobile-city-hall-austin/
END:VEVENT
BEGIN:VEVENT
DTSTART;VALUE=DATE:20250822
DTEND;VALUE=DATE:20250823
DTSTAMP:20260421T072650
CREATED:20250819T170629Z
LAST-MODIFIED:20250819T170629Z
UID:10002211-1755820800-1755907199@www.chicagocopa.org
SUMMARY:Family Focus Resource Fair
DESCRIPTION:
URL:https://www.chicagocopa.org/event/family-focus-resource-fair/
END:VEVENT
BEGIN:VEVENT
DTSTART;VALUE=DATE:20250821
DTEND;VALUE=DATE:20250822
DTSTAMP:20260421T072650
CREATED:20250819T170603Z
LAST-MODIFIED:20250819T170603Z
UID:10002210-1755734400-1755820799@www.chicagocopa.org
SUMMARY:Senior Fest
DESCRIPTION:
URL:https://www.chicagocopa.org/event/senior-fest/
END:VEVENT
BEGIN:VEVENT
DTSTART;VALUE=DATE:20250819
DTEND;VALUE=DATE:20250820
DTSTAMP:20260421T072650
CREATED:20250520T184534Z
LAST-MODIFIED:20250520T184534Z
UID:10002135-1755561600-1755647999@www.chicagocopa.org
SUMMARY:Nobel Neighbors Monthly Community Meeting
DESCRIPTION:
URL:https://www.chicagocopa.org/event/nobel-neighbors-monthly-community-meeting-7/
END:VEVENT
BEGIN:VEVENT
DTSTART;VALUE=DATE:20250816
DTEND;VALUE=DATE:20250817
DTSTAMP:20260421T072650
CREATED:20250520T184509Z
LAST-MODIFIED:20250731T183022Z
UID:10002134-1755302400-1755388799@www.chicagocopa.org
SUMMARY:Summer Olympics on the Block
DESCRIPTION:
URL:https://www.chicagocopa.org/event/city-clerks-mobile-city-hall-bronzeville/
END:VEVENT
BEGIN:VEVENT
DTSTART;VALUE=DATE:20250815
DTEND;VALUE=DATE:20250816
DTSTAMP:20260421T072650
CREATED:20250731T182930Z
LAST-MODIFIED:20250731T182930Z
UID:10002208-1755216000-1755302399@www.chicagocopa.org
SUMMARY:CICS West Belden Welcome Back Bash
DESCRIPTION:
URL:https://www.chicagocopa.org/event/cics-west-belden-welcome-back-bash/
END:VEVENT
BEGIN:VEVENT
DTSTART;VALUE=DATE:20250814
DTEND;VALUE=DATE:20250815
DTSTAMP:20260421T072650
CREATED:20250814T181622Z
LAST-MODIFIED:20250814T181622Z
UID:10002209-1755129600-1755215999@www.chicagocopa.org
SUMMARY:FSR Posts
DESCRIPTION:Today COPA posted the Final Summary Reports in the following cases. These cases can be found at the Case Portal via the link below. \n2023-0004127 \n2023-0005241 \n2023-0005822 \n2024-0003033 \n2024-0003868 \n 
URL:https://www.chicagocopa.org/event/fsr-posts-2/
CATEGORIES:Final Summary Report
END:VEVENT
BEGIN:VEVENT
DTSTART;VALUE=DATE:20250813
DTEND;VALUE=DATE:20250814
DTSTAMP:20260421T072650
CREATED:20250731T182107Z
LAST-MODIFIED:20250731T182107Z
UID:10002203-1755043200-1755129599@www.chicagocopa.org
SUMMARY:MCMF Safe Spaces End of Summer Celebration Registration
DESCRIPTION:
URL:https://www.chicagocopa.org/event/mcmf-safe-spaces-end-of-summer-celebration-registration/
END:VEVENT
BEGIN:VEVENT
DTSTART;TZID=America/Chicago:20250812T080000
DTEND;TZID=America/Chicago:20250812T170000
DTSTAMP:20260421T072650
CREATED:20250731T182900Z
LAST-MODIFIED:20250731T182900Z
UID:10002207-1754985600-1755018000@www.chicagocopa.org
SUMMARY:City Clerk's Mobile City Hall - Bronzeville
DESCRIPTION:
URL:https://www.chicagocopa.org/event/city-clerks-mobile-city-hall-bronzeville-2/
END:VEVENT
BEGIN:VEVENT
DTSTART;VALUE=DATE:20250812
DTEND;VALUE=DATE:20250813
DTSTAMP:20260421T072650
CREATED:20250520T184450Z
LAST-MODIFIED:20250520T184450Z
UID:10002133-1754956800-1755043199@www.chicagocopa.org
SUMMARY:Leaders Network Monthly Community Meeting
DESCRIPTION:
URL:https://www.chicagocopa.org/event/leaders-network-monthly-community-meeting-7/
END:VEVENT
BEGIN:VEVENT
DTSTART;VALUE=DATE:20250809
DTEND;VALUE=DATE:20250810
DTSTAMP:20260421T072650
CREATED:20250617T185324Z
LAST-MODIFIED:20250617T185324Z
UID:10002177-1754697600-1754783999@www.chicagocopa.org
SUMMARY:Back of the Yards Neighborhood Council Back-to-School Health Fair
DESCRIPTION:
URL:https://www.chicagocopa.org/event/back-of-the-yards-neighborhood-council-back-to-school-health-fair/
END:VEVENT
BEGIN:VEVENT
DTSTART;VALUE=DATE:20250808
DTEND;VALUE=DATE:20250809
DTSTAMP:20260421T072650
CREATED:20250715T182046Z
LAST-MODIFIED:20250715T182046Z
UID:10002195-1754611200-1754697599@www.chicagocopa.org
SUMMARY:CircEsteem Back to School Event at Senka Park
DESCRIPTION:
URL:https://www.chicagocopa.org/event/circesteem-back-to-school-event-at-senka-park/
END:VEVENT
BEGIN:VEVENT
DTSTART;VALUE=DATE:20250808
DTEND;VALUE=DATE:20250809
DTSTAMP:20260421T072650
CREATED:20250520T184254Z
LAST-MODIFIED:20250731T130722Z
UID:10002128-1754611200-1754697599@www.chicagocopa.org
SUMMARY:My CHI. My Future. First Friday Meeting
DESCRIPTION:
URL:https://www.chicagocopa.org/event/my-chi-my-future-first-friday-meeting-2/
END:VEVENT
BEGIN:VEVENT
DTSTART;VALUE=DATE:20250807
DTEND;VALUE=DATE:20250808
DTSTAMP:20260421T072650
CREATED:20250520T184423Z
LAST-MODIFIED:20250520T184423Z
UID:10002132-1754524800-1754611199@www.chicagocopa.org
SUMMARY:CPS Back to School Bash - Gately Park
DESCRIPTION:
URL:https://www.chicagocopa.org/event/cps-back-to-school-bash-gately-park/
END:VEVENT
BEGIN:VEVENT
DTSTART;VALUE=DATE:20250807
DTEND;VALUE=DATE:20250808
DTSTAMP:20260421T072650
CREATED:20250520T184401Z
LAST-MODIFIED:20250520T184401Z
UID:10002131-1754524800-1754611199@www.chicagocopa.org
SUMMARY:Westside Ministers' Coalition Monthly Community Meeting
DESCRIPTION:
URL:https://www.chicagocopa.org/event/westside-ministers-coalition-monthly-community-meeting-27/
END:VEVENT
BEGIN:VEVENT
DTSTART;VALUE=DATE:20250805
DTEND;VALUE=DATE:20250806
DTSTAMP:20260421T072650
CREATED:20250731T182321Z
LAST-MODIFIED:20250731T182321Z
UID:10002206-1754352000-1754438399@www.chicagocopa.org
SUMMARY:7th District National Night Out w/Lifescore Foundation
DESCRIPTION:
URL:https://www.chicagocopa.org/event/7th-district-national-night-out-w-lifescore-foundation/
END:VEVENT
BEGIN:VEVENT
DTSTART;VALUE=DATE:20250805
DTEND;VALUE=DATE:20250806
DTSTAMP:20260421T072650
CREATED:20250731T182254Z
LAST-MODIFIED:20250731T182254Z
UID:10002205-1754352000-1754438399@www.chicagocopa.org
SUMMARY:14th District National Night Out
DESCRIPTION:
URL:https://www.chicagocopa.org/event/14th-district-national-night-out-2/
END:VEVENT
BEGIN:VEVENT
DTSTART;VALUE=DATE:20250805
DTEND;VALUE=DATE:20250806
DTSTAMP:20260421T072650
CREATED:20250731T182234Z
LAST-MODIFIED:20250731T182234Z
UID:10002204-1754352000-1754438399@www.chicagocopa.org
SUMMARY:11th District National Night Out
DESCRIPTION:
URL:https://www.chicagocopa.org/event/11th-district-national-night-out/
END:VEVENT
BEGIN:VEVENT
DTSTART;VALUE=DATE:20250805
DTEND;VALUE=DATE:20250806
DTSTAMP:20260421T072650
CREATED:20250610T180032Z
LAST-MODIFIED:20250610T180032Z
UID:10002172-1754352000-1754438399@www.chicagocopa.org
SUMMARY:Humboldt Park Resource Fair
DESCRIPTION:
URL:https://www.chicagocopa.org/event/humboldt-park-resource-fair/
END:VEVENT
END:VCALENDAR