BEGIN:VCALENDAR
VERSION:2.0
PRODID:-//Civilian Office of Police Accountability - ECPv6.15.18//NONSGML v1.0//EN
CALSCALE:GREGORIAN
METHOD:PUBLISH
X-WR-CALNAME:Civilian Office of Police Accountability
X-ORIGINAL-URL:https://www.chicagocopa.org
X-WR-CALDESC:Events for Civilian Office of Police Accountability
REFRESH-INTERVAL;VALUE=DURATION:PT1H
X-Robots-Tag:noindex
X-PUBLISHED-TTL:PT1H
BEGIN:VTIMEZONE
TZID:America/Chicago
BEGIN:DAYLIGHT
TZOFFSETFROM:-0600
TZOFFSETTO:-0500
TZNAME:CDT
DTSTART:20240310T080000
END:DAYLIGHT
BEGIN:STANDARD
TZOFFSETFROM:-0500
TZOFFSETTO:-0600
TZNAME:CST
DTSTART:20241103T070000
END:STANDARD
BEGIN:DAYLIGHT
TZOFFSETFROM:-0600
TZOFFSETTO:-0500
TZNAME:CDT
DTSTART:20250309T080000
END:DAYLIGHT
BEGIN:STANDARD
TZOFFSETFROM:-0500
TZOFFSETTO:-0600
TZNAME:CST
DTSTART:20251102T070000
END:STANDARD
BEGIN:DAYLIGHT
TZOFFSETFROM:-0600
TZOFFSETTO:-0500
TZNAME:CDT
DTSTART:20260308T080000
END:DAYLIGHT
BEGIN:STANDARD
TZOFFSETFROM:-0500
TZOFFSETTO:-0600
TZNAME:CST
DTSTART:20261101T070000
END:STANDARD
END:VTIMEZONE
BEGIN:VEVENT
DTSTART;VALUE=DATE:20250312
DTEND;VALUE=DATE:20250313
DTSTAMP:20260419T090746
CREATED:20250312T192312Z
LAST-MODIFIED:20250312T192312Z
UID:10002069-1741737600-1741823999@www.chicagocopa.org
SUMMARY:Transparency Release 2025-0000547
DESCRIPTION:Pursuant to the City of Chicago’s Video Release Policy\, COPA posted materials related to this fatal officer-involved shooting. The materials are available at the link below.
URL:https://www.chicagocopa.org/event/transparency-release-2025-0000547/
CATEGORIES:Transparency Release
END:VEVENT
BEGIN:VEVENT
DTSTART;VALUE=DATE:20250409
DTEND;VALUE=DATE:20250410
DTSTAMP:20260419T090746
CREATED:20250422T223820Z
LAST-MODIFIED:20250422T223820Z
UID:10002083-1744156800-1744243199@www.chicagocopa.org
SUMMARY:Transparency Release 2025-0000832
DESCRIPTION:Pursuant to the City of Chicago’s Video Release Policy\, COPA posted materials related to this unintentional weapon discharge. The materials are available at the link below.
URL:https://www.chicagocopa.org/event/transparency-release-2025-0000832/
CATEGORIES:Transparency Release
END:VEVENT
BEGIN:VEVENT
DTSTART;VALUE=DATE:20250422
DTEND;VALUE=DATE:20250423
DTSTAMP:20260419T090746
CREATED:20250422T223706Z
LAST-MODIFIED:20250422T223706Z
UID:10002082-1745280000-1745366399@www.chicagocopa.org
SUMMARY:Transparency Release 2025-0001315
DESCRIPTION:Pursuant to the City of Chicago’s Video Release Policy\, COPA posted materials related to this fatal officer-involved shooting. The materials are available at the link below.
URL:https://www.chicagocopa.org/event/transparency-release-2025-0001315/
CATEGORIES:Transparency Release
END:VEVENT
BEGIN:VEVENT
DTSTART;VALUE=DATE:20250514
DTEND;VALUE=DATE:20250515
DTSTAMP:20260419T090746
CREATED:20250514T210527Z
LAST-MODIFIED:20250514T210527Z
UID:10002085-1747180800-1747267199@www.chicagocopa.org
SUMMARY:Transparency Release 2025-0001291
DESCRIPTION:Pursuant to the City of Chicago’s Video Release Policy\, COPA posted materials related to this off-duty weapon discharge. The materials are available at the link below.
URL:https://www.chicagocopa.org/event/transparency-release-2025-0001291/
CATEGORIES:Transparency Release
END:VEVENT
BEGIN:VEVENT
DTSTART;VALUE=DATE:20250604
DTEND;VALUE=DATE:20250605
DTSTAMP:20260419T090746
CREATED:20250604T172029Z
LAST-MODIFIED:20250604T172029Z
UID:10002169-1748995200-1749081599@www.chicagocopa.org
SUMMARY:Transparency Release 2025-0002115
DESCRIPTION:Pursuant to the City of Chicago’s Video Release Policy\, COPA posted materials related to this fatal officer-involved shooting. The materials are available at the link below.
URL:https://www.chicagocopa.org/event/transparency-release-2025-0002115/
CATEGORIES:Transparency Release
END:VEVENT
BEGIN:VEVENT
DTSTART;VALUE=DATE:20250610
DTEND;VALUE=DATE:20250611
DTSTAMP:20260419T090746
CREATED:20250610T230218Z
LAST-MODIFIED:20250610T230218Z
UID:10002173-1749513600-1749599999@www.chicagocopa.org
SUMMARY:Transparency Release 2025-0002202
DESCRIPTION:Pursuant to the City of Chicago’s Video Release Policy\, COPA posted materials related to this fatal officer-involved shooting. The materials are available at the link below.
URL:https://www.chicagocopa.org/event/transparency-release-2025-0002202/
CATEGORIES:Transparency Release
END:VEVENT
BEGIN:VEVENT
DTSTART;VALUE=DATE:20250708
DTEND;VALUE=DATE:20250709
DTSTAMP:20260419T090746
CREATED:20250708T145635Z
LAST-MODIFIED:20250708T145635Z
UID:10002190-1751932800-1752019199@www.chicagocopa.org
SUMMARY:Transparency Release 2025-0002597
DESCRIPTION:Pursuant to the City of Chicago’s Video Release Policy\, COPA posted materials related to this fatal officer-involved shooting. The materials are available at the link below.
URL:https://www.chicagocopa.org/event/transparency-release-2025-0002597/
CATEGORIES:Transparency Release
END:VEVENT
BEGIN:VEVENT
DTSTART;VALUE=DATE:20250918
DTEND;VALUE=DATE:20250919
DTSTAMP:20260419T090746
CREATED:20251006T144557Z
LAST-MODIFIED:20251006T144557Z
UID:10002247-1758153600-1758239999@www.chicagocopa.org
SUMMARY:Transparency Release 2025-0003873
DESCRIPTION:Pursuant to the City of Chicago’s Video Release Policy\, COPA posted materials related to this off-duty officer-involved shooting. The materials are available at the link below.
URL:https://www.chicagocopa.org/event/transparency-release-2025-0003873/
CATEGORIES:Transparency Release
END:VEVENT
BEGIN:VEVENT
DTSTART;VALUE=DATE:20250930
DTEND;VALUE=DATE:20251001
DTSTAMP:20260419T090746
CREATED:20251006T144640Z
LAST-MODIFIED:20251006T144640Z
UID:10002248-1759190400-1759276799@www.chicagocopa.org
SUMMARY:Transparency Release 2025-0003972
DESCRIPTION:Pursuant to the City of Chicago’s Video Release Policy\, COPA posted materials related to this officer-involved shooting. The materials are available at the link below.
URL:https://www.chicagocopa.org/event/transparency-release-2025-0003972/
CATEGORIES:Transparency Release
END:VEVENT
BEGIN:VEVENT
DTSTART;VALUE=DATE:20251105
DTEND;VALUE=DATE:20251106
DTSTAMP:20260419T090746
CREATED:20251105T180654Z
LAST-MODIFIED:20251105T180654Z
UID:10002260-1762300800-1762387199@www.chicagocopa.org
SUMMARY:Transparency Release 2025-0004513
DESCRIPTION:Pursuant to the City of Chicago’s Video Release Policy\, COPA posted materials related to this fatal officer-involved shooting. The materials are available at the link below.
URL:https://www.chicagocopa.org/event/transparency-release-2025-0004513/
CATEGORIES:Transparency Release
END:VEVENT
END:VCALENDAR