BEGIN:VCALENDAR
VERSION:2.0
PRODID:-//Civilian Office of Police Accountability - ECPv6.15.18//NONSGML v1.0//EN
CALSCALE:GREGORIAN
METHOD:PUBLISH
X-ORIGINAL-URL:https://www.chicagocopa.org
X-WR-CALDESC:Events for Civilian Office of Police Accountability
REFRESH-INTERVAL;VALUE=DURATION:PT1H
X-Robots-Tag:noindex
X-PUBLISHED-TTL:PT1H
BEGIN:VTIMEZONE
TZID:America/Chicago
BEGIN:DAYLIGHT
TZOFFSETFROM:-0600
TZOFFSETTO:-0500
TZNAME:CDT
DTSTART:20230312T080000
END:DAYLIGHT
BEGIN:STANDARD
TZOFFSETFROM:-0500
TZOFFSETTO:-0600
TZNAME:CST
DTSTART:20231105T070000
END:STANDARD
BEGIN:DAYLIGHT
TZOFFSETFROM:-0600
TZOFFSETTO:-0500
TZNAME:CDT
DTSTART:20240310T080000
END:DAYLIGHT
BEGIN:STANDARD
TZOFFSETFROM:-0500
TZOFFSETTO:-0600
TZNAME:CST
DTSTART:20241103T070000
END:STANDARD
BEGIN:DAYLIGHT
TZOFFSETFROM:-0600
TZOFFSETTO:-0500
TZNAME:CDT
DTSTART:20250309T080000
END:DAYLIGHT
BEGIN:STANDARD
TZOFFSETFROM:-0500
TZOFFSETTO:-0600
TZNAME:CST
DTSTART:20251102T070000
END:STANDARD
END:VTIMEZONE
BEGIN:VEVENT
DTSTART;VALUE=DATE:20240104
DTEND;VALUE=DATE:20240105
DTSTAMP:20260420T060635
CREATED:20231208T142726Z
LAST-MODIFIED:20231208T142726Z
UID:10001715-1704326400-1704412799@www.chicagocopa.org
SUMMARY:Westside Ministers' Coalition Monthly Community Meeting
DESCRIPTION:COPA plans to attend the Westside Ministers’ Coalition monthly community meeting. This organization mission is to provide services that will initiate self-help efforts to improve the Austin community of Chicago in areas of housing\, public safety\, reentry\, clergy involvement\, education\, health\, energy\, conservation\, community\, youth\, and economic development\, to work in cooperation with other organizations sharing similar values. This event begins at 10am and will be held at the Columbus Park Refectory.
URL:https://www.chicagocopa.org/event/westside-ministers-coalition-monthly-community-meeting-8/
END:VEVENT
BEGIN:VEVENT
DTSTART;VALUE=DATE:20240104
DTEND;VALUE=DATE:20240105
DTSTAMP:20260420T060635
CREATED:20231221T201648Z
LAST-MODIFIED:20231221T201648Z
UID:10001762-1704326400-1704412799@www.chicagocopa.org
SUMMARY:My Chi. My Future. Winter Kickback Series in Auburn Gresham
DESCRIPTION:The Winter Kickback Series is back in 2023! Teens in 15 communities are planning several events for their communities over winter break. COPA will attend this upcoming event by Metropolitan Family Services on Thursday\, January 4th from 2-5PM at New Years Move Night (1440 W. 84th St).
URL:https://www.chicagocopa.org/event/my-chi-my-future-winter-kickback-series-in-auburn-gresham/
END:VEVENT
END:VCALENDAR